BEGIN:VCALENDAR
VERSION:2.0
PRODID:-//Citizen Potawatomi Community Development Corporation - ECPv6.14.2//NONSGML v1.0//EN
CALSCALE:GREGORIAN
METHOD:PUBLISH
X-WR-CALNAME:Citizen Potawatomi Community Development Corporation
X-ORIGINAL-URL:https://cpcdc.org
X-WR-CALDESC:Events for Citizen Potawatomi Community Development Corporation
REFRESH-INTERVAL;VALUE=DURATION:PT1H
X-Robots-Tag:noindex
X-PUBLISHED-TTL:PT1H
BEGIN:VTIMEZONE
TZID:America/Chicago
BEGIN:DAYLIGHT
TZOFFSETFROM:-0500
TZOFFSETTO:-0500
TZNAME:CDT
DTSTART:20180101T000000
END:DAYLIGHT
END:VTIMEZONE
BEGIN:VEVENT
DTSTART;TZID=America/Chicago:20180516T083000
DTEND;TZID=America/Chicago:20180516T160000
DTSTAMP:20260422T115742
CREATED:20180501T152022Z
LAST-MODIFIED:20180501T152022Z
UID:174-1526459400-1526486400@cpcdc.org
SUMMARY:Comprehensive QuickBooks Desktop
DESCRIPTION:Attendees at this intensive\, hands-on training will learn how QuickBooks can benefit their business.  Topics to be covered include: \n\nExamining Chart of Accounts\n• Writing Checks and Recording Deposits\n•    Reconciling Bank Statements\n•    Entering and Paying Vendor Bills\n•    Invoicing Customers and Receiving Payments\n•    Creating and Understanding Basic Financial Statements and Balance Sheets\n•    Tracking Sales Tax\n•    Customizing Reports\n•    Entering and Reconciling Credit Card Charges\n•    Utilizing Sub-Accounts\n\nParticipants will enter information on the computer using practice sets and have the opportunity to ask questions and receive guidance on “how and why”.  QuickBooks® Pro 2018 desktop version is used for the training. \nPresenter:  MJ Brienen\, QuickBooks Pro Advisor.  MJ Brienen is a seasoned professional focused on helping businesses in many stages of development to set-up\, maintain\, or fix their QuickBooks systems.  She works to help uncover the secrets to QuickBooks® and how the program can be used most effectively by businesses.  Brienen has a background in banking\, sales\, project management\, and working with websites. \nYou will be redirected to PayPal to pay for registration. Fee is non-refundable. If you cannot attend\, your registration may be able to be transferred to another workshop. \nFunded in part through a cooperative agreement with the U. S. Small Business Administration\, WBC’s\, and PRIME programs and services are provided on a nondiscriminatory basis. Reasonable accommodations for persons with disabilities and language assistance services for clients with limited English proficiency will be provided if requested at least two weeks in advance. Contact Lori Smith\, WBC Assistant or Cassidy Gilmore\, PRIME Coordinator at P.O. Box 1335\, Durant\, OK 74702 or call 800-658-2823.
URL:https://cpcdc.org/event/comprehensive-quickbooks-desktop-2
LOCATION:Southwest Technology Center\, Seminar Center\, 711 West Tamarack Road\, Altus\, OK\, 73521\, United States
CATEGORIES:Quickbooks,REI WBC
ATTACH;FMTTYPE=image/jpeg:https://cpcdc.org/wp-content/uploads/2018/05/logo-intuit-quickbooks-preferred.jpg
END:VEVENT
BEGIN:VEVENT
DTSTART;TZID=America/Chicago:20180516T083000
DTEND;TZID=America/Chicago:20180517T163000
DTSTAMP:20260422T115742
CREATED:20180409T194537Z
LAST-MODIFIED:20180409T195222Z
UID:136-1526459400-1526574600@cpcdc.org
SUMMARY:2018 Business Boot Camp - Indianpreneurship
DESCRIPTION:Mvskoke Loan Fund \nInvites anyone interested to attend a FREE Business Training Event; person interested in expanding your business skills should attend. \n2018 Business Book Camps – IndianPreneurships (R) Business Curriculum by ONABEN \nMay 16-17\, 2018 \nContinental Breakfast and Lunch Provided! \nLimited Seats Available \nCall Mvskoke Loan Fund to reserve your seat! (918)549-2603 \n  \nMvto! (Thank you) to our Training Partners \n  \nONABEN  –  REI Native American Business Centers  –  REI Women’s Business Cneter  –  Green Country Technology Center  –  The Muscogee Nation I.T.
URL:https://cpcdc.org/event/2018-business-boot-camp-indianpreneurship
LOCATION:River Spirit Casino\, 8330 Riverside Pkwy\, Tulsa\, OK\, 74137\, United States
CATEGORIES:Boot Camp
END:VEVENT
END:VCALENDAR