BEGIN:VCALENDAR
VERSION:2.0
PRODID:-//Citizen Potawatomi Community Development Corporation - ECPv6.14.2//NONSGML v1.0//EN
CALSCALE:GREGORIAN
METHOD:PUBLISH
X-WR-CALNAME:Citizen Potawatomi Community Development Corporation
X-ORIGINAL-URL:https://cpcdc.org
X-WR-CALDESC:Events for Citizen Potawatomi Community Development Corporation
REFRESH-INTERVAL;VALUE=DURATION:PT1H
X-Robots-Tag:noindex
X-PUBLISHED-TTL:PT1H
BEGIN:VTIMEZONE
TZID:America/Chicago
BEGIN:DAYLIGHT
TZOFFSETFROM:-0500
TZOFFSETTO:-0500
TZNAME:CDT
DTSTART:20180101T000000
END:DAYLIGHT
END:VTIMEZONE
BEGIN:VEVENT
DTSTART;TZID=America/Chicago:20180522T113000
DTEND;TZID=America/Chicago:20180522T133000
DTSTAMP:20260421T193747
CREATED:20180501T153338Z
LAST-MODIFIED:20180501T153338Z
UID:186-1526988600-1526995800@cpcdc.org
SUMMARY:Encore Entrepreneurship Luncheon
DESCRIPTION:Do you have what it takes to start a small business?  Join us for a free event for individuals to empower them to us their knowledge\, experience\, and skills to become business owners and job creators.  Hear from experts and learn about programs and resources available through AARP\, SBA and REI WBC.  Topics to be discussed are components of an effective business plan\, marketing a small business and financing your small business.  Also\, hear from a successful entrepreneur.  This workshop will benefit any entrepreneur or business owner\, especially 50 plus. \nThe cost of the luncheon is free\, however attendee should registered by May 21st at www.reiwbc.org. \nPartners: AARP\, SBA\, and REI Women’s Business Center. \nFunded in part through a cooperative agreement with the U. S. Small Business Administration\, WBC’s\, and PRIME programs and services are provided on a nondiscriminatory basis. Reasonable accommodations for persons with disabilities and language assistance services for clients with limited English proficiency will be provided if requested at least two weeks in advance. Contact Lori Smith\, WBC Assistant or Cassidy Gilmore\, PRIME Coordinator at P.O. Box 1335\, Durant\, OK 74702 or call 800-658-2823. \n\n\n\nGeneral Admission
URL:https://cpcdc.org/event/encore-entrepreneurship-luncheon
LOCATION:Tulsa Jewish Federation\, 2021 East 71st Street\, Tulsa\, OK\, 74136\, United States
CATEGORIES:REI WBC
END:VEVENT
END:VCALENDAR