BEGIN:VCALENDAR
VERSION:2.0
PRODID:-//Citizen Potawatomi Community Development Corporation - ECPv6.14.2//NONSGML v1.0//EN
CALSCALE:GREGORIAN
METHOD:PUBLISH
X-WR-CALNAME:Citizen Potawatomi Community Development Corporation
X-ORIGINAL-URL:https://cpcdc.org
X-WR-CALDESC:Events for Citizen Potawatomi Community Development Corporation
REFRESH-INTERVAL;VALUE=DURATION:PT1H
X-Robots-Tag:noindex
X-PUBLISHED-TTL:PT1H
BEGIN:VTIMEZONE
TZID:America/Chicago
BEGIN:DAYLIGHT
TZOFFSETFROM:-0500
TZOFFSETTO:-0500
TZNAME:CDT
DTSTART:20180101T000000
END:DAYLIGHT
END:VTIMEZONE
BEGIN:VEVENT
DTSTART;VALUE=DATE:20180626
DTEND;VALUE=DATE:20180627
DTSTAMP:20260420T021547
CREATED:20180604T162818Z
LAST-MODIFIED:20180604T162818Z
UID:247-1529971200-1530057599@cpcdc.org
SUMMARY:GrowOK
DESCRIPTION:The GrowOK program is designed to explore the product/market fit of a new business concept. Each program includes an intensive one-day workshop\, with outside activities to be completed by the participating company/entrepreneur. Additionally\, companies can opt-in to participate in weekly one-on-one meetings to receive individual feedback and direction for their business. During the GrowOK program participants will evaluate: \n\nCustomer segments\nProduct/market fit\nRisks and competition\nInitial paths to market\nHow to reach potential customers\nImplementing customer feedback\nSetting metrics for success\nIntroduction to startup capital\n\nFollowing completion of the workshop\, calls\, and outside diligence\, each company receives a recommendation report with next steps for their venture. \nThe goal of the GrowOK program is to increase the number of businesses that create jobs in rural Oklahoma. The project is funded with a grant from the U.S. Economic Development Administration with matching funds from Oklahoma’s four largest Native American tribes\, the Oklahoma Business Roundtable\, and the Oklahoma Center for Advancement of Science and Technology. The GrowOK program is designed to provide resources to startup companies in rural Oklahoma. i2E and its partners are working to increase startup activity and job creation in rural Oklahoma and provide the tools needed for entrepreneurs to start and grow successful companies. \n\n\n\n\n\n\n\n\n\n\n\n\n\n\n\n\n\n\n\n\n\nFor more information visit: www.growok.org
URL:https://cpcdc.org/event/growok
LOCATION:GrowOK\, i2E\, Inc\, 840 Research Parkway\, Suite 250\, Oklahoma City\, OK\, 73104\, United States
ORGANIZER;CN="www.growok.org":MAILTO:contact@growok.org
END:VEVENT
END:VCALENDAR