BEGIN:VCALENDAR
VERSION:2.0
PRODID:-//Citizen Potawatomi Community Development Corporation - ECPv6.14.2//NONSGML v1.0//EN
CALSCALE:GREGORIAN
METHOD:PUBLISH
X-ORIGINAL-URL:https://cpcdc.org
X-WR-CALDESC:Events for Citizen Potawatomi Community Development Corporation
REFRESH-INTERVAL;VALUE=DURATION:PT1H
X-Robots-Tag:noindex
X-PUBLISHED-TTL:PT1H
BEGIN:VTIMEZONE
TZID:America/Chicago
BEGIN:DAYLIGHT
TZOFFSETFROM:-0500
TZOFFSETTO:-0500
TZNAME:CDT
DTSTART:20180101T000000
END:DAYLIGHT
END:VTIMEZONE
BEGIN:VEVENT
DTSTART;TZID=America/Chicago:20180816T090000
DTEND;TZID=America/Chicago:20180816T100000
DTSTAMP:20260424T163440
CREATED:20180604T211136Z
LAST-MODIFIED:20180604T211136Z
UID:261-1534410000-1534413600@cpcdc.org
SUMMARY:Small Business Assistance (event/857442)
DESCRIPTION:Join us as we learn about Small Business Administration programs and resources for new and existing businesses.
URL:https://cpcdc.org/event/small-business-assistance-event-857442
LOCATION:Community Room-Blanchard\, 205 NE 10th Street\, Blanchard\, OK\, 73010\, United States
END:VEVENT
END:VCALENDAR