BEGIN:VCALENDAR
VERSION:2.0
PRODID:-//Citizen Potawatomi Community Development Corporation - ECPv6.14.2//NONSGML v1.0//EN
CALSCALE:GREGORIAN
METHOD:PUBLISH
X-ORIGINAL-URL:https://cpcdc.org
X-WR-CALDESC:Events for Citizen Potawatomi Community Development Corporation
REFRESH-INTERVAL;VALUE=DURATION:PT1H
X-Robots-Tag:noindex
X-PUBLISHED-TTL:PT1H
BEGIN:VTIMEZONE
TZID:America/Chicago
BEGIN:DAYLIGHT
TZOFFSETFROM:-0500
TZOFFSETTO:-0500
TZNAME:CDT
DTSTART:20180101T000000
END:DAYLIGHT
END:VTIMEZONE
BEGIN:VEVENT
DTSTART;VALUE=DATE:20180828
DTEND;VALUE=DATE:20180830
DTSTAMP:20260423T083837
CREATED:20180827T203412Z
LAST-MODIFIED:20180827T203412Z
UID:320-1535414400-1535587199@cpcdc.org
SUMMARY:Business Boot Camp - Indianpreneurship
DESCRIPTION:Mvskoke Loan Fund \nInvites anyone interested to attend a FREE Business Training Event; person interested in expanding your business skills should attend. \n2018 Business Boot Camps – IndianPreneurships (R) Business Curriculum by ONABEN \nAugust 28-29\, 2018 \n8:30 AM – 4:30 PM \nLimited Seats Available \nCall Mvskoke Loan Fund to reserve your seat! (918)549-2603 \nMvto! (Thank you) to our Training Partners \nONABEN – REI Native American Business Centers – REI Women’s Business Cneter – Green Country Technology Center – The Muscogee Nation I.T.
URL:https://cpcdc.org/event/business-boot-camp-indianpreneurship
LOCATION:MCN Campus\, Tribal Conference Room – McCombs Building\, Okmulgee\, OK\, United States
CATEGORIES:Boot Camp
END:VEVENT
END:VCALENDAR