BEGIN:VCALENDAR
VERSION:2.0
PRODID:-//Citizen Potawatomi Community Development Corporation - ECPv6.14.2//NONSGML v1.0//EN
CALSCALE:GREGORIAN
METHOD:PUBLISH
X-ORIGINAL-URL:https://cpcdc.org
X-WR-CALDESC:Events for Citizen Potawatomi Community Development Corporation
REFRESH-INTERVAL;VALUE=DURATION:PT1H
X-Robots-Tag:noindex
X-PUBLISHED-TTL:PT1H
BEGIN:VTIMEZONE
TZID:America/Chicago
BEGIN:DAYLIGHT
TZOFFSETFROM:-0500
TZOFFSETTO:-0500
TZNAME:CDT
DTSTART:20190101T000000
END:DAYLIGHT
END:VTIMEZONE
BEGIN:VEVENT
DTSTART;VALUE=DATE:20190513
DTEND;VALUE=DATE:20190516
DTSTAMP:20260420T161226
CREATED:20190307T224835Z
LAST-MODIFIED:20190307T224919Z
UID:431-1557705600-1557964799@cpcdc.org
SUMMARY:NativeBusiness Summit 2019
DESCRIPTION:We’d like to invite you to the Native Business Summit – sure to be the premier Native American business event of 2019. And we don’t want you to miss out!\n\nJoin us for three days of highly beneficial business trainings and presentations designed to help grow your company and make sure you are in the innovation loop. \nBenefit from unparalleled networking with Tribal officials\, Alaska Native leaders and Corporations while engaging with the best and brightest Native American and First Nations business owners and entrepreneurs from across Indian Country! Many of whom you have read about in the pages of Native Business Magazine. \nNative Business Summit Features: \n\n\n\nNetworking with Decision Makers\n3 Days of Business Development\, Trainings & Networking\n2 Days of the Native Business Summit Tradeshow\nNative Business Matchmaking Expo\nNative Business Golf Classic\nInspirational Keynote Speakers and Featured Presenters\n\nThree valuable days of opportunities\n\nGrow your business and gain powerful insights from workshops\, successful keynote speakers and seasoned presenters covering important topics such as:\n\n\nEnergy\nFinance\nTechnology\nCannabis\nGaming\n\n\n\n\nInfrastructure\nFederal Contracting\nHealthcare\nAgriculture\nAnd much more
URL:https://cpcdc.org/event/nativebusiness-summit-2019
LOCATION:Hard Rock Hotel and Casino\, 777 W. Cherokee St\, Tulsa\, OK\, United States
ATTACH;FMTTYPE=image/png:https://cpcdc.org/wp-content/uploads/2019/03/natviebusinesssummit2019.png
END:VEVENT
END:VCALENDAR