BEGIN:VCALENDAR
VERSION:2.0
PRODID:-//Citizen Potawatomi Community Development Corporation - ECPv6.14.2//NONSGML v1.0//EN
CALSCALE:GREGORIAN
METHOD:PUBLISH
X-WR-CALNAME:Citizen Potawatomi Community Development Corporation
X-ORIGINAL-URL:https://cpcdc.org
X-WR-CALDESC:Events for Citizen Potawatomi Community Development Corporation
REFRESH-INTERVAL;VALUE=DURATION:PT1H
X-Robots-Tag:noindex
X-PUBLISHED-TTL:PT1H
BEGIN:VTIMEZONE
TZID:America/Chicago
BEGIN:DAYLIGHT
TZOFFSETFROM:-0500
TZOFFSETTO:-0500
TZNAME:CDT
DTSTART:20190101T000000
END:DAYLIGHT
END:VTIMEZONE
BEGIN:VEVENT
DTSTART;TZID=America/Chicago:20190603T090000
DTEND;TZID=America/Chicago:20190603T120000
DTSTAMP:20260419T133808
CREATED:20190529T193710Z
LAST-MODIFIED:20190529T193710Z
UID:524-1559552400-1559563200@cpcdc.org
SUMMARY:OKLAHOMA TAX COMMISSION WORKSHOP
DESCRIPTION:Monday\, June 03\, 2019 9:00 AM to 12:00 PM Central\nLocation: Rose State College SBDC\, Professional Training and Education Center\n9 Open Seats\n\nThe workshop covers taxes for the State of Oklahoma.  During this three-hour session\, you will learn about new business registration\, business tax report form completion\, sales and withholding record keeping requirements\, sales tax deductions and exemptions and vendor responsibilities.  It is useful for anyone contemplating starting a business. \nSpeaker(s): Dewey Brandon\, Oklahoma Tax Commission \nThere is no fee for the workshop\, however due to limited seating registration is required. Call 405-733-7348 to register or get more information. \nReasonable accommodations for persons with disabilities will be made if requested at least two weeks in advance.  Language assistance services are available for limited English proficient individuals with appropriate advance notice.  Please contact OKSBDC Training Manager Cindy Ruminer by email at cindy.ruminer@oksbdc.org or call 580-745-2877. \nAll SBDC programs and services are extended to the public on a non-discriminatory basis.\n“Funded in part through a Cooperative Agreement with the U.S. Small Business Administration.  All opinions\, conclusions\, and/or recommendations expressed herein are those of the author(s) and do not necessarily reflect the views of the SBA.”
URL:https://cpcdc.org/event/oklahoma-tax-commission-workshop-3
LOCATION:Rose State College Professional Training Center\, 1720 Hudiburg Drive\, Midwest City\, OK\, 73110\, United States
CATEGORIES:Free
END:VEVENT
BEGIN:VEVENT
DTSTART;TZID=America/Chicago:20190603T130000
DTEND;TZID=America/Chicago:20190603T160000
DTSTAMP:20260419T133808
CREATED:20190529T135655Z
LAST-MODIFIED:20190529T135655Z
UID:461-1559566800-1559577600@cpcdc.org
SUMMARY:Do it Yourself Video Marketing
DESCRIPTION:In this hands-on session you’ll learn to create your own video marketing for your business.  You’ll learn about the volume of video being consumed online as well as essential tips and tools for producing and editing your own videos.  Other topics to be covered include: \n–  Video topic ideas and how to generate content so we move beyond the pitfall of hard selling and learn to keep the audience involved \n–  Where to use your videos\, from social media to YouTube to your website \n–  Participants will have the opportunity to record their own “trial run” video to get experience and feedback! \nThere will be plenty of time for Q&A with the instructor and hands-on practice! \nPresenter: Stephen Koranda\, CDME\, CTA\, is a 20-plus year marketing professional. \nKoranda is Principal and Sr. Consultant for Back To You Marketing\, a marketing agency and tourism consultancy firm based in Norman\, Oklahoma\, that counsels small businesses on their marketing initiatives to grow their business. \nFunded in part through a cooperative agreement with the U.S. Small Business Administration. WBC and PRIME programs and services are provided on a nondiscriminatory basis. Reasonable accommodations for persons with disabilities and language assistance services for clients with limited English proficiency will be provided if requested at least two weeks in advance. Contact Lori Smith\, WBC Assistant at PO Box 1335\, Durant\, OK 74702 or call 800-658-2823. \nPartners: GPTC\, GPTC Economic Development Center\, CETES\, Cameron University\, Lawton-Fort Sill Chamber of Commerce OKSBDC and REI Women’s Business Center \n\n\n\nPrice: $15.00
URL:https://cpcdc.org/event/do-it-yourself-video-marketing-2
LOCATION:Great Plains Business Development Center\, 1601 SW Park Ridge Blvd\, McMahon Lecture\, Lawton\, OK\, 73505\, United States
CATEGORIES:REI WBC
ATTACH;FMTTYPE=image/jpeg:https://cpcdc.org/wp-content/uploads/2019/05/tv-channel-3413659_1920.jpg
END:VEVENT
BEGIN:VEVENT
DTSTART;TZID=America/Chicago:20190603T130000
DTEND;TZID=America/Chicago:20190603T160000
DTSTAMP:20260419T133808
CREATED:20190529T193905Z
LAST-MODIFIED:20190529T193905Z
UID:527-1559566800-1559577600@cpcdc.org
SUMMARY:SMALL BUSINESS FEDERAL TAX WORKSHOP
DESCRIPTION:Monday\, June 03\, 2019 1:00 PM to 4:00 PM Central\nLocation: Rose State College SBDC\, Professional Training and Education Center Rm. 114\n14 Open Seats\n\nConducted by a representatives of Peters and Chandler\, P.C. Certified Public Accountants\, the workshop covers basic IRS Tax requirements.  During the three-hour session you will learn about record keeping/bookkeeping systems\, business income tax\, business deductions\, and federal tax forms and filing dates. This information is essential to anyone contemplating starting a business. \nSpeaker(s): Peters and Chandler\, P.C. \nCo-Sponsor(s):  IRS \nThere is no fee for the workshop\, however due to limited seating registration is required. Call 405-733-7348 to register or get more information. \nReasonable accommodations for persons with disabilities will be made if requested at least two weeks in advance.  Language assistance services are available for limited English proficient individuals with appropriate advance notice.  Please contact OKSBDC Training Manager Cindy Ruminer by email at cindy.ruminer@oksbdc.org or call 580-745-2877. \nAll SBDC programs and services are extended to the public on a non-discriminatory basis.\n“Funded in part through a Cooperative Agreement with the U.S. Small Business Administration.  All opinions\, conclusions\, and/or recommendations expressed herein are those of the author(s) and do not necessarily reflect the views of the SBA.”
URL:https://cpcdc.org/event/small-business-federal-tax-workshop-2
LOCATION:Rose State College Professional Training Center\, 1720 Hudiburg Drive\, Midwest City\, OK\, 73110\, United States
END:VEVENT
END:VCALENDAR