BEGIN:VCALENDAR
VERSION:2.0
PRODID:-//Citizen Potawatomi Community Development Corporation - ECPv6.14.2//NONSGML v1.0//EN
CALSCALE:GREGORIAN
METHOD:PUBLISH
X-WR-CALNAME:Citizen Potawatomi Community Development Corporation
X-ORIGINAL-URL:https://cpcdc.org
X-WR-CALDESC:Events for Citizen Potawatomi Community Development Corporation
REFRESH-INTERVAL;VALUE=DURATION:PT1H
X-Robots-Tag:noindex
X-PUBLISHED-TTL:PT1H
BEGIN:VTIMEZONE
TZID:America/Chicago
BEGIN:DAYLIGHT
TZOFFSETFROM:-0500
TZOFFSETTO:-0500
TZNAME:CDT
DTSTART:20190101T000000
END:DAYLIGHT
END:VTIMEZONE
BEGIN:VEVENT
DTSTART;TZID=America/Chicago:20190617T090000
DTEND;TZID=America/Chicago:20190617T100000
DTSTAMP:20260419T155702
CREATED:20190529T194256Z
LAST-MODIFIED:20190529T194256Z
UID:531-1560762000-1560765600@cpcdc.org
SUMMARY:SMALL BUSINESS TAX WORKSHOP
DESCRIPTION:Monday\, June 17\, 2019 9:00 AM to 10:00 AM Central\nLocation: Eastern Oklahoma State College- McAlester Campus\, EOSC – McAlester Campus 208\nFacilitated by Wilburton SBDC\n24 Open Seats\n\nBusiness structure\, sales tax exemptions\, form completion\, new business registration\, withholding\, tax filing requirements\, vendor responsibilities. \nSpeaker(s): Dewey Brandon OTC \nCo-Sponsor(s):  OTC & SBDC \nReasonable accommodations for persons with disabilities will be made if requested at least two weeks in advance. Language assistance services are available for limited English proficient individuals with appropriate advance notice. Please contact OKSBDC Training Manager Cindy Ruminer by email at cindy.ruminer@oksbdc.org or call 580-745-2877. \nAll SBDC programs and services are extended to the public on a non-discriminatory basis. \n“Funded in part through a Cooperative Agreement with the U.S. Small Business Administration. All opinions\, conclusions\, and/or recommendations expressed herein are those of the author(s) and do not necessarily reflect the views of the SBA.”
URL:https://cpcdc.org/event/small-business-tax-workshop-2
LOCATION:Eastern Oklahoma State College – McAlester Campus\, 1802 College Ave\, McAlester\, OK\, 74501\, United States
END:VEVENT
BEGIN:VEVENT
DTSTART;TZID=America/Chicago:20190617T100000
DTEND;TZID=America/Chicago:20190617T120000
DTSTAMP:20260419T155702
CREATED:20190529T195142Z
LAST-MODIFIED:20190529T195142Z
UID:533-1560765600-1560772800@cpcdc.org
SUMMARY:BUSINESS START UP WORKSHOP
DESCRIPTION:Monday\, June 17\, 2019 10:00 AM to 12:00 PM Central\nLocation: Eastern Oklahoma State College- McAlester Campus\, EOSC – McAlester Campus\nFacilitated by Wilburton SBDC\n\nBusiness start up walkthrough and business planning \nSpeaker(s): Dana Hugle\, Kreg Haney\, & Henry Lehr \nCo-Sponsor(s):  Choctaw Nation of Oklahoma \nReasonable accommodations for persons with disabilities will be made if requested at least two weeks in advance. Language assistance services are available for limited English proficient individuals with appropriate advance notice. Please contact OKSBDC Training Manager Cindy Ruminer by email at cindy.ruminer@oksbdc.org or call 580-745-2877. \nAll SBDC programs and services are extended to the public on a non-discriminatory basis. \n“Funded in part through a Cooperative Agreement with the U.S. Small Business Administration. All opinions\, conclusions\, and/or recommendations expressed herein are those of the author(s) and do not necessarily reflect the views of the SBA.”
URL:https://cpcdc.org/event/business-start-up-workshop
LOCATION:Eastern Oklahoma State College – McAlester Campus\, 1802 College Ave\, McAlester\, OK\, 74501\, United States
END:VEVENT
END:VCALENDAR