BEGIN:VCALENDAR
VERSION:2.0
PRODID:-//Citizen Potawatomi Community Development Corporation - ECPv6.14.2//NONSGML v1.0//EN
CALSCALE:GREGORIAN
METHOD:PUBLISH
X-WR-CALNAME:Citizen Potawatomi Community Development Corporation
X-ORIGINAL-URL:https://cpcdc.org
X-WR-CALDESC:Events for Citizen Potawatomi Community Development Corporation
REFRESH-INTERVAL;VALUE=DURATION:PT1H
X-Robots-Tag:noindex
X-PUBLISHED-TTL:PT1H
BEGIN:VTIMEZONE
TZID:America/Chicago
BEGIN:DAYLIGHT
TZOFFSETFROM:-0500
TZOFFSETTO:-0500
TZNAME:CDT
DTSTART:20190101T000000
END:DAYLIGHT
END:VTIMEZONE
BEGIN:VEVENT
DTSTART;TZID=America/Chicago:20190625T090000
DTEND;TZID=America/Chicago:20190625T110000
DTSTAMP:20260419T133808
CREATED:20190529T160051Z
LAST-MODIFIED:20190529T160201Z
UID:490-1561453200-1561460400@cpcdc.org
SUMMARY:Reboot Your Brand's Content Marketing
DESCRIPTION:Content has never been more important\, yet many brands that engage with customers across multiple channels don’t have a content strategy that aligns their initiatives with their brand. In this workshop you’ll be introduced to the core of successful branding\, creative techniques to employ when crafting your brand\, examples of successful brands\, and we will work through creating a content strategy you can take away to promote your brand. \nPresenter: Kelby Owens\, REI Oklahoma \nPartners: OKSBDC\, Durant Chamber\, Durant Main Street\, Choctaw Nation and REI Women’s Business Center. \nYou will be redirected to PayPal to pay for registration. Fee is non-refundable. If you cannot attend\, your registration may be able to be transferred to another workshop. \nFunded in part through a cooperative agreement with the U.S. Small Business Administration. WBC and PRIME programs and services are provided on a nondiscriminatory basis. Reasonable accommodations for persons with disabilities and language assistance services for clients with limited English proficiency will be provided if requested at least two weeks in advance. Contact Lori Smith\, WBC Assistant at PO Box 1335\, Durant\, OK 74702 or call 800-658-2823. \n\n\n\nPrice: $20.00
URL:https://cpcdc.org/event/reboot-your-brands-content-marketing-3
LOCATION:REI Oklahoma Conference Center\, 2912 Enterprise Blvd\, Durant\, OK\, 74701\, United States
CATEGORIES:REI WBC
END:VEVENT
BEGIN:VEVENT
DTSTART;TZID=America/Chicago:20190625T090000
DTEND;TZID=America/Chicago:20190625T120000
DTSTAMP:20260419T133808
CREATED:20190529T195433Z
LAST-MODIFIED:20190529T195433Z
UID:535-1561453200-1561464000@cpcdc.org
SUMMARY:STATE & FEDERAL NEW BUSINESS TAX WORKSHOP
DESCRIPTION:Tuesday\, June 25\, 2019 9:00 AM to 12:00 PM Central\nLocation: Langston University Tulsa OK SBDC Location\, Room 216\n29 Open Seats\n\nThis event will feature the State tax seminar taught by Dewey Brandon and will last approximately 1 hour.  The next 2 hours will feature the IRS tax seminar taught by Bob Fitzgerald\, CPA.  This event is free to the public. \nReasonable accommodations for persons with disabilities will be made if requested at least two weeks in advance.  Language assistance services are available for limited English proficient individuals with appropriate advance notice.  Please contact OKSBDC Training Manager Cindy Ruminer by email at cindy.ruminer@oksbdc.org or call 580-745-2877. \nAll SBDC programs and services are extended to the public on a non-discriminatory basis.\n“Funded in part through a Cooperative Agreement with the U.S. Small Business Administration.  All opinions\, conclusions\, and/or recommendations expressed herein are those of the author(s) and do not necessarily reflect the views of the SBA.”
URL:https://cpcdc.org/event/state-federal-new-business-tax-workshop-2
LOCATION:Langston University Tulsa OK SBDC Location\, 914 N. Greenwood\, Tulsa\, OK\, 74106\, United States
END:VEVENT
END:VCALENDAR