BEGIN:VCALENDAR
VERSION:2.0
PRODID:-//Citizen Potawatomi Community Development Corporation - ECPv6.14.2//NONSGML v1.0//EN
CALSCALE:GREGORIAN
METHOD:PUBLISH
X-WR-CALNAME:Citizen Potawatomi Community Development Corporation
X-ORIGINAL-URL:https://cpcdc.org
X-WR-CALDESC:Events for Citizen Potawatomi Community Development Corporation
REFRESH-INTERVAL;VALUE=DURATION:PT1H
X-Robots-Tag:noindex
X-PUBLISHED-TTL:PT1H
BEGIN:VTIMEZONE
TZID:America/Chicago
BEGIN:DAYLIGHT
TZOFFSETFROM:-0500
TZOFFSETTO:-0500
TZNAME:CDT
DTSTART:20190101T000000
END:DAYLIGHT
END:VTIMEZONE
BEGIN:VEVENT
DTSTART;TZID=America/Chicago:20190626T090000
DTEND;TZID=America/Chicago:20190626T120000
DTSTAMP:20260422T120228
CREATED:20190529T200019Z
LAST-MODIFIED:20190529T200019Z
UID:538-1561539600-1561550400@cpcdc.org
SUMMARY:ENTREPRENEUR 101 WORKSHOP
DESCRIPTION:Wednesday\, June 26\, 2019 9:00 AM to 12:00 PM Central\nLocation: Carl Albert State College\, 3rd Floor\, HR Classroom #BC864\nFacilitated by Wilburton SBDC\n\nBusiness start up walkthrough and business planning \nSpeaker(s): Dana Hugle\, Kreg Haney\, & Henry Lehr \nCo-Sponsor(s):  Choctaw Nation of Oklahoma \nReasonable accommodations for persons with disabilities will be made if requested at least two weeks in advance. Language assistance services are available for limited English proficient individuals with appropriate advance notice. Please contact OKSBDC Training Manager Cindy Ruminer by email at cindy.ruminer@oksbdc.org or call 580-745-2877. \nAll SBDC programs and services are extended to the public on a non-discriminatory basis. \n“Funded in part through a Cooperative Agreement with the U.S. Small Business Administration. All opinions\, conclusions\, and/or recommendations expressed herein are those of the author(s) and do not necessarily reflect the views of the SBA.”
URL:https://cpcdc.org/event/entrepreneur-101-workshop
LOCATION:Carl Albert State College\, 1507 S. McKenna Street\, Poteau\, OK\, 74953\, United States
END:VEVENT
BEGIN:VEVENT
DTSTART;TZID=America/Chicago:20190626T130000
DTEND;TZID=America/Chicago:20190626T140000
DTSTAMP:20260422T120228
CREATED:20190529T200146Z
LAST-MODIFIED:20190529T200146Z
UID:541-1561554000-1561557600@cpcdc.org
SUMMARY:BUSINESS PLAN WORKSHOP
DESCRIPTION:Wednesday\, June 26\, 2019 1:00 PM to 2:00 PM Central\nLocation: Carl Albert State College\, 3rd Floor\, HR Classroom #BC864\nFacilitated by Wilburton SBDC\n\nBusiness start up walkthrough and business planning \nSpeaker(s): Dana Hugle\, Kreg Haney\, & Henry Lehr \nCo-Sponsor(s):  Choctaw Nation of Oklahoma \nReasonable accommodations for persons with disabilities will be made if requested at least two weeks in advance. Language assistance services are available for limited English proficient individuals with appropriate advance notice. Please contact OKSBDC Training Manager Cindy Ruminer by email at cindy.ruminer@oksbdc.org or call 580-745-2877. \nAll SBDC programs and services are extended to the public on a non-discriminatory basis. \n“Funded in part through a Cooperative Agreement with the U.S. Small Business Administration. All opinions\, conclusions\, and/or recommendations expressed herein are those of the author(s) and do not necessarily reflect the views of the SBA.”
URL:https://cpcdc.org/event/business-plan-workshop
LOCATION:Carl Albert State College\, 1507 S. McKenna Street\, Poteau\, OK\, 74953\, United States
END:VEVENT
END:VCALENDAR