BEGIN:VCALENDAR
VERSION:2.0
PRODID:-//Citizen Potawatomi Community Development Corporation - ECPv6.14.2//NONSGML v1.0//EN
CALSCALE:GREGORIAN
METHOD:PUBLISH
X-WR-CALNAME:Citizen Potawatomi Community Development Corporation
X-ORIGINAL-URL:https://cpcdc.org
X-WR-CALDESC:Events for Citizen Potawatomi Community Development Corporation
REFRESH-INTERVAL;VALUE=DURATION:PT1H
X-Robots-Tag:noindex
X-PUBLISHED-TTL:PT1H
BEGIN:VTIMEZONE
TZID:America/Chicago
BEGIN:DAYLIGHT
TZOFFSETFROM:-0500
TZOFFSETTO:-0500
TZNAME:CDT
DTSTART:20190101T000000
END:DAYLIGHT
END:VTIMEZONE
BEGIN:VEVENT
DTSTART;TZID=America/Chicago:20190718T080000
DTEND;TZID=America/Chicago:20190718T160000
DTSTAMP:20260419T213002
CREATED:20190529T161753Z
LAST-MODIFIED:20190529T161753Z
UID:503-1563436800-1563465600@cpcdc.org
SUMMARY:Northwest OK Women's Business Summit
DESCRIPTION:NWOK Women’s Business Summit – July 18\, 2019 \nJoin us at this one-day event designed to encourage\, support\, and equip women in business throughout Northwest Oklahoma. We will learn from high-quality presenters on a variety of topics\, network and gain exposure for our businesses\, and cultivate profitable business connections. \nAgenda at a glance (check back- more info is being added regularly!):\n?8:00 – 8:30 am – Registration and Networking\n8:30 – 9:00 am – Welcome and Continental Breakfast\n9:00 – 10:00 am – Keynote Speaker\, Major General Rita Aragon\n10:10 – 11:45 am – Breakout Sessions\n12:00 – 1:00 pm – Lunch and Networking\n1:25 – 2:45 pm – Breakout Sessions\n3:00 – 4:00 pm – Keynote Speaker\, Eric Benson \nSpeaker bios can be found at enidwib.com \nPartners: Autry Technology Center\, Strate Center for Business Development\, Enid Regional Development Alliance\, Main Street Enid\, Northern Oklahoma College\, and REI Women’s Business Center. \nYou will be redirected to PayPal to pay for registration. Fee is non-refundable. If you cannot attend\, your registration may be able to be transferred to another workshop. \nFunded in part through a cooperative agreement with the U.S. Small Business Administration. WBC and PRIME programs and services are provided on a nondiscriminatory basis. Reasonable accommodations for persons with disabilities and language assistance services for clients with limited English proficiency will be provided if requested at least two weeks in advance. Contact Lori Smith\, WBC Assistant at PO Box 1335\, Durant\, OK 74702 or call 800-658-2823.
URL:https://cpcdc.org/event/northwest-ok-womens-business-summit-2
LOCATION:Autry Technology Center\, Oklahoma Room\, 1201 W. Willow\, Enid\, OK\, 73703\, United States
END:VEVENT
BEGIN:VEVENT
DTSTART;TZID=America/Chicago:20190718T083000
DTEND;TZID=America/Chicago:20190718T113000
DTSTAMP:20260419T213002
CREATED:20190529T161602Z
LAST-MODIFIED:20190529T161602Z
UID:501-1563438600-1563449400@cpcdc.org
SUMMARY:Business Basics - Starting & Running Your Own Business
DESCRIPTION:To start your own business you need to know the questions to ask\, location and structure types\, how to register in Oklahoma\, preparation of the business plan\, understanding business financials\, and the steps to getting financed (federal\, state\, and local resources will also be discussed in this session).  This seminar is a broad overview of the different areas to consider when starting a new business.  There will be plenty of time allotted to ask questions of the instructors and business experts. \nSpeakers from Francis Tuttle\, Moore Norman Tech\, MidDel Tech\, SCORE\, OKSBDC and REI’s Women’s Business Center. \nAttendees are encourage to register early. \nPartners:  Francis Tuttle Launch Pad\, Moore Norman Tech\, MidDel Tech\, SCORE\, OKSBDC and REI Women’s Business Center. \nYou will be redirected to PayPal to pay for registration. Fee is non-refundable. If you cannot attend\, your registration may be able to be transferred to another workshop. \nFunded in part through a cooperative agreement with the U. S. Small Business Administration\, WBC’s\, SBA 7j\, and PRIME programs and services are provided on a nondiscriminatory basis. Reasonable accommodations for persons with disabilities and language assistance services for clients with limited English proficiency will be provided if requested at least two weeks in advance. Contact Lori Smith\, WBC Assistant or Cassidy Gilmore\, PRIME Coordinator at P.O. Box 1335\, Durant\, OK 74702 or call 800-658-2823. \nPrice: $20.00
URL:https://cpcdc.org/event/business-basics-starting-running-your-own-business-7
LOCATION:Rose State College Professional Training Center\, 1720 Hudiburg Drive\, Midwest City\, OK\, 73110\, United States
END:VEVENT
END:VCALENDAR