BEGIN:VCALENDAR
VERSION:2.0
PRODID:-//Citizen Potawatomi Community Development Corporation - ECPv6.14.2//NONSGML v1.0//EN
CALSCALE:GREGORIAN
METHOD:PUBLISH
X-WR-CALNAME:Citizen Potawatomi Community Development Corporation
X-ORIGINAL-URL:https://cpcdc.org
X-WR-CALDESC:Events for Citizen Potawatomi Community Development Corporation
REFRESH-INTERVAL;VALUE=DURATION:PT1H
X-Robots-Tag:noindex
X-PUBLISHED-TTL:PT1H
BEGIN:VTIMEZONE
TZID:America/Chicago
BEGIN:DAYLIGHT
TZOFFSETFROM:-0500
TZOFFSETTO:-0500
TZNAME:CDT
DTSTART:20190101T000000
END:DAYLIGHT
END:VTIMEZONE
BEGIN:VEVENT
DTSTART;TZID=America/Chicago:20191113T090000
DTEND;TZID=America/Chicago:20191113T113000
DTSTAMP:20260421T133005
CREATED:20190920T175405Z
LAST-MODIFIED:20190920T175405Z
UID:695-1573635600-1573644600@cpcdc.org
SUMMARY:Grow with Google - Get Your Business Online
DESCRIPTION:REGISTER ONLINE FOR GROW WITH GOOGLE\nThe Grow with Google partner program is on a mission to help small businesses grow and succeed online. Make plans to join us in Duncan\, Oklahoma Wednesday\, November 13th for a Grow With Google workshop. \nWorkshop Presenter:\nMaria Elena Duron\, Speaker\, Grow with Google \nThis 2-hour workshop will cover the following topics. \nGet Your Business Online\nLearn about Google My Business\, a free tool for local businesses who want to connect with customers on Google Search and Maps. Get hands-on help creating or updating your business profile or a simple website. \nIn this session we’ll show you how to: \n\nCreate or claim your Business Profile on Google\nManage your business info across Google Search and Maps\nUse Google My Business to connect with potential customers\nCreate a free website using the info from your Business Profile\n\n  \nUsing Data to Drive Business Growth\nLearn best practices and analyze trends about how customers engage with your business online\, then turn these insights into well-informed\, actionable decisions. \nIn this session we’ll introduce talk about: \n\nIdentifying  business goals and how you plan to use your online presence to achieve them\nIncorporating data into your marketing plan\nSelecting tools to help you find the answers you need\n\nInvestment: $10\nRefreshments and snacks will be provided.\nFor more information\, please call Marla Herndon at 800.658.2823 \n\n\n\nPrice: $10.00
URL:https://cpcdc.org/event/grow-with-google-get-your-business-online
LOCATION:Red River Technology Center\, 3300 West Bois D. Arc Avenue\, Duncan\, OK\, 73533\, United States
CATEGORIES:REI WBC
ATTACH;FMTTYPE=image/gif:https://cpcdc.org/wp-content/uploads/2018/12/googles-new-logo-5078286822539264.3-hp2x.gif
END:VEVENT
END:VCALENDAR