BEGIN:VCALENDAR
VERSION:2.0
PRODID:-//Citizen Potawatomi Community Development Corporation - ECPv6.14.2//NONSGML v1.0//EN
CALSCALE:GREGORIAN
METHOD:PUBLISH
X-WR-CALNAME:Citizen Potawatomi Community Development Corporation
X-ORIGINAL-URL:https://cpcdc.org
X-WR-CALDESC:Events for Citizen Potawatomi Community Development Corporation
REFRESH-INTERVAL;VALUE=DURATION:PT1H
X-Robots-Tag:noindex
X-PUBLISHED-TTL:PT1H
BEGIN:VTIMEZONE
TZID:America/Chicago
BEGIN:DAYLIGHT
TZOFFSETFROM:-0500
TZOFFSETTO:-0500
TZNAME:CDT
DTSTART:20190101T000000
END:DAYLIGHT
END:VTIMEZONE
BEGIN:VEVENT
DTSTART;TZID=America/Chicago:20191121T130000
DTEND;TZID=America/Chicago:20191121T160000
DTSTAMP:20260420T092124
CREATED:20190920T175943Z
LAST-MODIFIED:20190920T175943Z
UID:699-1574341200-1574352000@cpcdc.org
SUMMARY:Business Basics - Starting & Running Your Own Business
DESCRIPTION:To start your own business you need to know the questions to ask\, location and structure types\, how to register in Oklahoma\, preparation of the business plan\, understanding business financials\, and the steps to getting financed (federal\, state\, and local resources will also be discussed in this session).  This seminar is a broad overview of the different areas to consider when starting a new business.  There will be plenty of time allotted to ask questions of the instructors and business experts. \nSpeakers from Francis Tuttle\, Moore Norman Tech\, MidDel Tech\, SCORE\, OKSBDC and REI’s Women’s Business Center. \nAttendees are encourage to register early. \nPartners:  Francis Tuttle Launch Pad\, Moore Norman Tech\, MidDel Tech\, SCORE\, OKSBDC and REI Women’s Business Center. \nYou will be redirected to PayPal to pay for registration. Fee is non-refundable. If you cannot attend\, your registration may be able to be transferred to another workshop.  \nFunded in part through a cooperative agreement with the U. S. Small Business Administration\, WBC’s\, SBA 7j\, and PRIME programs and services are provided on a nondiscriminatory basis. Reasonable accommodations for persons with disabilities and language assistance services for clients with limited English proficiency will be provided if requested at least two weeks in advance. Contact Lori Smith\, WBC Assistant or Cassidy Gilmore\, PRIME Coordinator at P.O. Box 1335\, Durant\, OK 74702 or call 800-658-2823.
URL:https://cpcdc.org/event/business-basics-starting-running-your-own-business-10
LOCATION:Rose State College Professional Training Center\, 1720 Hudiburg Drive\, Midwest City\, OK\, 73110\, United States
CATEGORIES:REI WBC
END:VEVENT
END:VCALENDAR