BEGIN:VCALENDAR
VERSION:2.0
PRODID:-//Citizen Potawatomi Community Development Corporation - ECPv6.14.2//NONSGML v1.0//EN
CALSCALE:GREGORIAN
METHOD:PUBLISH
X-WR-CALNAME:Citizen Potawatomi Community Development Corporation
X-ORIGINAL-URL:https://cpcdc.org
X-WR-CALDESC:Events for Citizen Potawatomi Community Development Corporation
REFRESH-INTERVAL;VALUE=DURATION:PT1H
X-Robots-Tag:noindex
X-PUBLISHED-TTL:PT1H
BEGIN:VTIMEZONE
TZID:America/Chicago
BEGIN:DAYLIGHT
TZOFFSETFROM:-0500
TZOFFSETTO:-0500
TZNAME:CDT
DTSTART:20200101T000000
END:DAYLIGHT
END:VTIMEZONE
BEGIN:VEVENT
DTSTART;TZID=America/Chicago:20200117T100000
DTEND;TZID=America/Chicago:20200117T120000
DTSTAMP:20260422T180716
CREATED:20191211T154444Z
LAST-MODIFIED:20191211T154444Z
UID:833-1579255200-1579262400@cpcdc.org
SUMMARY:Successfully Marketing Your Business
DESCRIPTION:Content has never been more important\, yet many brands that engage with customers across multiple channels don’t have a content strategy that aligns their initiatives with their brand. In this workshop you’ll be introduced to the core of successful marketing\, creative techniques to employ when crafting your brand\, examples of successful brands\, and we will work through creating a content strategy you can take away to promote your brand. \nPresenters: Sara Orellana-Paape\, 3Raptor Consulting \nPartners: Great Plains Technology Center\, Great Plains Economic Development Center\, Lawton-Fort Sill Chamber of Commerce\, OKSBDC\, Cameron University\, and REI Women’s Business Center. \nYou will be redirected to PayPal to pay for registration. Fee is non-refundable. If you cannot attend\, your registration may be able to be transferred to another workshop. \nFunded in part through a cooperative agreement with the U.S. Small Business Administration. WBC and PRIME programs and services are provided on a nondiscriminatory basis. Reasonable accommodations for persons with disabilities and language assistance services for clients with limited English proficiency will be provided if requested at least two weeks in advance. Contact Lori Smith\, WBC Assistant at PO Box 1335\, Durant\, OK 74702 or call 800-658-2823.
URL:https://cpcdc.org/event/successfully-marketing-your-business
LOCATION:Great Plains Business Development Center\, 1601 SW Park Ridge Blvd\, McMahon Lecture\, Lawton\, OK\, 73505\, United States
END:VEVENT
END:VCALENDAR