BEGIN:VCALENDAR
VERSION:2.0
PRODID:-//Citizen Potawatomi Community Development Corporation - ECPv6.14.2//NONSGML v1.0//EN
CALSCALE:GREGORIAN
METHOD:PUBLISH
X-ORIGINAL-URL:https://cpcdc.org
X-WR-CALDESC:Events for Citizen Potawatomi Community Development Corporation
REFRESH-INTERVAL;VALUE=DURATION:PT1H
X-Robots-Tag:noindex
X-PUBLISHED-TTL:PT1H
BEGIN:VTIMEZONE
TZID:America/Chicago
BEGIN:DAYLIGHT
TZOFFSETFROM:-0500
TZOFFSETTO:-0500
TZNAME:CDT
DTSTART:20200101T000000
END:DAYLIGHT
END:VTIMEZONE
BEGIN:VEVENT
DTSTART;TZID=America/Chicago:20200204T081500
DTEND;TZID=America/Chicago:20200204T090000
DTSTAMP:20260419T122431
CREATED:20200131T153039Z
LAST-MODIFIED:20200131T153138Z
UID:959-1580804100-1580806800@cpcdc.org
SUMMARY:Small Business Breakfast Club
DESCRIPTION:The Small Business Breakfast Club meets the first Tuesday of the month. This networking and business-building event is for business owners\, professionals and small business resource partners. We will highlight a business owner or local expert who can share their knowledge and experience\, covering different topics monthly\, with plenty of time for Q&A and networking. \nBreakfast Sponsorships Available to highlight your business!\nFor more info\, contact Marla Herndon\, REI WBC\, at 800.658.2823. \nPartners: Durant Area Chamber of Commerce\, OSBDC\, Kiamichi Technology Center\, Choctaw Nation\, Durant Main Street\, Imagine Durant\, and REI Women’s Business Center. \nFunded in part through a cooperative agreement with the U.S. Small Business Administration. WBC and PRIME programs and services are provided on a nondiscriminatory basis. Reasonable accommodations for persons with disabilities and language assistance services for clients with limited English proficiency will be provided if requested at least two weeks in advance. Contact Lori Smith\, WBC Assistant at PO Box 1335\, Durant\, OK 74702 or call 800-658-2823.
URL:https://cpcdc.org/event/small-business-breakfast-club-8
LOCATION:REI Oklahoma Conference Center\, 2912 Enterprise Blvd\, Durant\, OK\, 74701\, United States
CATEGORIES:Free,Networking,REI WBC
ATTACH;FMTTYPE=image/jpeg:https://cpcdc.org/wp-content/uploads/2020/01/breakfast-1835478_1920.jpg
END:VEVENT
BEGIN:VEVENT
DTSTART;TZID=America/Chicago:20200204T113000
DTEND;TZID=America/Chicago:20200204T130000
DTSTAMP:20260419T122431
CREATED:20200131T153614Z
LAST-MODIFIED:20200131T153614Z
UID:962-1580815800-1580821200@cpcdc.org
SUMMARY:Enid Women In Business: Overcoming Imposter Syndrome
DESCRIPTION:Join us for the 2020 Enid Women in Business Quarterly Series.  These events provide an opportunity to learn\, promote leadership\, gain exposure\, and cultivate profitable business connections. This series is the perfect place for women to come together to listen and support other women in business. \nThis quarter’s event: Overcoming Imposter Syndrome \nWomen often battle feelings of inadequacy and self-doubt despite evident success and accomplishments.  This “imposter syndrome” that sometimes leaves us feeling fraudulent can be detrimental to our boldness and achievement in life.  You won’t want to miss this empowering talk about how to combat negative self-talk to grow yourself and your business with confidence! \nThere will also be time to network and share about your business at this event. \nSpeaker: Jennifer McGrail\, As the Director of Launch Pad FT\, a rigorous small business incubator program based in Edmond\, Jennifer leads businesses to make the leap into operation and helps them ensure their continued success.  Her strengths lie in viewing the large picture for an organization and being able to manage projects to exceed long term objectives and set the organization up to succeed in the future.  She specializes in strategic planning\, business development\, employee management\, marketing and communications- and has a particular passion for helping to equip women business leaders as they pursue influence and impact! \nYou will be redirected to PayPal to pay for registration. Fee is non-refundable. If you cannot attend\, your registration may be able to be transferred to another workshop.  \nFunded in part through a cooperative agreement with the U.S. Small Business Administration. WBC and PRIME programs and services are provided on a nondiscriminatory basis. Reasonable accommodations for persons with disabilities and language assistance services for clients with limited English proficiency will be provided if requested at least two weeks in advance. Contact Lori Smith\, WBC Assistant at PO Box 1335\, Durant\, OK 74702 or call 800-658-2823.
URL:https://cpcdc.org/event/enid-women-in-business-overcoming-imposter-syndrome
LOCATION:Autry Technology Center\, Oklahoma Room\, 1201 W. Willow\, Enid\, OK\, 73703\, United States
CATEGORIES:REI WBC
END:VEVENT
END:VCALENDAR