BEGIN:VCALENDAR
VERSION:2.0
PRODID:-//Citizen Potawatomi Community Development Corporation - ECPv6.14.2//NONSGML v1.0//EN
CALSCALE:GREGORIAN
METHOD:PUBLISH
X-WR-CALNAME:Citizen Potawatomi Community Development Corporation
X-ORIGINAL-URL:https://cpcdc.org
X-WR-CALDESC:Events for Citizen Potawatomi Community Development Corporation
REFRESH-INTERVAL;VALUE=DURATION:PT1H
X-Robots-Tag:noindex
X-PUBLISHED-TTL:PT1H
BEGIN:VTIMEZONE
TZID:America/Chicago
BEGIN:DAYLIGHT
TZOFFSETFROM:-0500
TZOFFSETTO:-0500
TZNAME:CDT
DTSTART:20200101T000000
END:DAYLIGHT
END:VTIMEZONE
BEGIN:VEVENT
DTSTART;TZID=America/Chicago:20200302T090000
DTEND;TZID=America/Chicago:20200302T120000
DTSTAMP:20260422T072552
CREATED:20200205T211639Z
LAST-MODIFIED:20200205T211639Z
UID:1091-1583139600-1583150400@cpcdc.org
SUMMARY:New Business Workshop - Midwest City
DESCRIPTION:General Information\n\n\n\nTitle:\nNew Business Workshop – Midwest City (CLICK HERE) \n\n\nDescription:\n1720 Hudiburg Drive\nProfessional Training and Education Center\n(Rose State College)\nTo register for this workshop please call the number listed below.\n\n\nStart:\n03-02-2020 09:00am\n\n\nEnd:\n03-02-2020 12:00pm\n\n\n\nContact Information\n\n\n\nContact Name:\n\n\n\nEmail:\n\n\n\nPhone:\n405-733-7488\n\n\nURL:\n\n\n\n\nLocation Information\n\n\n\nAddress 1:\n1720 Hudiburg Drive\n\n\nAddress 2:\nProfessional Training and Education Center (Rose State College)\n\n\nCity:\nMidwest City\n\n\nState:\nOK\n\n\nZip:\n\n\n\n\nAdditional Event Details\n\n\n\n2nd Phone:
URL:https://cpcdc.org/event/new-business-workshop-midwest-city
LOCATION:Rose State College Professional Training Center\, 1720 Hudiburg Drive\, Midwest City\, OK\, 73110\, United States
ATTACH;FMTTYPE=image/jpeg:https://cpcdc.org/wp-content/uploads/2018/12/OTC_bnr_061518.jpg
END:VEVENT
BEGIN:VEVENT
DTSTART;TZID=America/Chicago:20200302T090000
DTEND;TZID=America/Chicago:20200302T120000
DTSTAMP:20260422T072552
CREATED:20200205T220114Z
LAST-MODIFIED:20200205T220114Z
UID:1135-1583139600-1583150400@cpcdc.org
SUMMARY:Oklahoma Tax Commission Workshop
DESCRIPTION:Rose State College SBDC Professional Training and Education Center \nRoom 114\n\nTopic: Tax Planning\nThe workshop covers taxes for the State of Oklahoma. During this three-hour session\, you will learn about new business registration\, business tax report form completion\, sales and withholding record keeping requirements\, sales tax deductions and exemptions and vendor responsibilities. It is useful for anyone contemplating starting a business. \nSpeaker(s): Dewey Brandon\, Oklahoma Tax Commission \nThere is no fee for the workshop\, however due to limited seating registration is required. Call 405-733-7348 to register or get more information. \nFee: No Cost \nRegister Online\nAlready Registered? Sign in for more information.\n\n\n\n\nPhone: (580) 733-7483\nEmail: cindy.ruminer@oksbdc.org\n\n\n \n\n\nLocation\n\n\nRose State College SBDC\nProfessional Training and Education Center\nRoom 114\n1720 Hudiburg Drive Midwest City OK 73110
URL:https://cpcdc.org/event/oklahoma-tax-commission-workshop-10
LOCATION:Rose State College SBDC
CATEGORIES:Oklahoma Small Business Development Centers
ORGANIZER;CN="OKSBDC":MAILTO:cindy.ruminer@oksbdc.org
END:VEVENT
END:VCALENDAR