BEGIN:VCALENDAR
VERSION:2.0
PRODID:-//Citizen Potawatomi Community Development Corporation - ECPv6.14.2//NONSGML v1.0//EN
CALSCALE:GREGORIAN
METHOD:PUBLISH
X-ORIGINAL-URL:https://cpcdc.org
X-WR-CALDESC:Events for Citizen Potawatomi Community Development Corporation
REFRESH-INTERVAL;VALUE=DURATION:PT1H
X-Robots-Tag:noindex
X-PUBLISHED-TTL:PT1H
BEGIN:VTIMEZONE
TZID:America/Chicago
BEGIN:DAYLIGHT
TZOFFSETFROM:-0500
TZOFFSETTO:-0500
TZNAME:CDT
DTSTART:20200101T000000
END:DAYLIGHT
END:VTIMEZONE
BEGIN:VEVENT
DTSTART;TZID=America/Chicago:20200401T090000
DTEND;TZID=America/Chicago:20200401T154700
DTSTAMP:20260420T083224
CREATED:20200131T181940Z
LAST-MODIFIED:20200131T182350Z
UID:1016-1585731600-1585756020@cpcdc.org
SUMMARY:QuickBooks Advanced & Payroll - Desktop
DESCRIPTION:In the QuickBooks Advanced Class\, you will learn more about the features of QuickBooks that can make you more productive as your business grows. Getting to the next level with QuickBooks means that you’ll be able to make advanced reports of your business’ financial data\, understand how to use the various classes\, and more. Special emphasis will be place on understanding and navigating how to do payroll within QuickBooks. \nThis QuickBooks Advanced class will help you understand more about the tools available to you as a small business. Working closely with a QuickBooks certified professional\, you will get customized\, one-on-one attention working through your real-world issues. \nParticipants will enter information on laptops that will be provided.  QuickBooks® Pro 2018 desktop version is used for the training. \nPresenter:  MJ Brienen\, QuickBooks Pro Advisor\nMJ Brienen is a seasoned professional focused on helping businesses in many stages of development to set-up\, maintain\, or fix their QuickBooks systems.  She works to help uncover the secrets to QuickBooks® and how the program can be used most effectively by businesses.  Brienen has a background in banking\, sales\, project management\, and working with websites. \nYou will be redirected to PayPal to pay for registration. Fee is non-refundable. If you cannot attend\, your registration may be able to be transferred to another workshop.  \nFunded in part through a cooperative agreement with the U.S. Small Business Administration. WBC and PRIME programs and services are provided on a nondiscriminatory basis. Reasonable accommodations for persons with disabilities and language assistance services for clients with limited English proficiency will be provided if requested at least two weeks in advance. Contact Lori Smith\, WBC Assistant at PO Box 1335\, Durant\, OK 74702 or call 800-658-2823.
URL:https://cpcdc.org/event/quickbooks-advanced-payroll-desktop-6
LOCATION:Great Plains Business Development Center\, 1601 SW Park Ridge Blvd\, McMahon Lecture\, Lawton\, OK\, 73505\, United States
CATEGORIES:Quickbooks,REI WBC
ATTACH;FMTTYPE=image/jpeg:https://cpcdc.org/wp-content/uploads/2019/05/32-328641_the-best-etsy-experience-for-quickbooks-online-intuit.jpg
END:VEVENT
BEGIN:VEVENT
DTSTART;TZID=America/Chicago:20200401T130000
DTEND;TZID=America/Chicago:20200401T160000
DTSTAMP:20260420T083224
CREATED:20200309T172003Z
LAST-MODIFIED:20200309T172003Z
UID:1229-1585746000-1585756800@cpcdc.org
SUMMARY:Communicating With Purpose - Speaking With Influence
DESCRIPTION:Communicating With Purpose is designed to build a network of women in business in the Tulsa\, Oklahoma area who will enhance their problem solving and leadership abilities through shared perspectives and working together. \nInvestment for each session is $45\, please register separately for each date. \nApril 1\nSpeaking With Influence \nUpcoming dates: \nApril 8\nBuilding Trust Among Teams & Clients \nApril 15\nConversations for Influence \nApril 28\nConflict Management & Resolution \nLissa Qualls\, owner of Clarity OK\, has a unique way of teaching how to “Communicate With Purpose”. For more than 20 years\, Lissa served as a trainer for Youth for Christ USA and International\, training staff\, National Directors and National Board of Trustees throughout the world. She has also worked with CEO’s\, managers\, leadership teams and entire companies each time helping them to better understand how they show up and how to better communicate with each other. \n  \nYou will be redirected to PayPal to pay for registration. Fee is non-refundable. If you cannot attend\, your registration may be able to be transferred to another workshop.  \nFunded in part through a cooperative agreement with the U.S. Small Business Administration. WBC and PRIME programs and services are provided on a nondiscriminatory basis. Reasonable accommodations for persons with disabilities and language assistance services for clients with limited English proficiency will be provided if requested at least two weeks in advance. Contact Lori Smith\, WBC Assistant at PO Box 1335\, Durant\, OK 74702 or call 800-658-2823. \n\n\n\nPrice: $45.00
URL:https://cpcdc.org/event/communicating-with-purpose-speaking-with-influence
LOCATION:Supreme Lending\, 3902 E. 51st Street\, Tulsa\, OK\, 74135\, United States
END:VEVENT
END:VCALENDAR