BEGIN:VCALENDAR
VERSION:2.0
PRODID:-//Citizen Potawatomi Community Development Corporation - ECPv6.14.2//NONSGML v1.0//EN
CALSCALE:GREGORIAN
METHOD:PUBLISH
X-WR-CALNAME:Citizen Potawatomi Community Development Corporation
X-ORIGINAL-URL:https://cpcdc.org
X-WR-CALDESC:Events for Citizen Potawatomi Community Development Corporation
REFRESH-INTERVAL;VALUE=DURATION:PT1H
X-Robots-Tag:noindex
X-PUBLISHED-TTL:PT1H
BEGIN:VTIMEZONE
TZID:America/Chicago
BEGIN:DAYLIGHT
TZOFFSETFROM:-0500
TZOFFSETTO:-0500
TZNAME:CDT
DTSTART:20200101T000000
END:DAYLIGHT
END:VTIMEZONE
BEGIN:VEVENT
DTSTART;TZID=America/Chicago:20200420T150000
DTEND;TZID=America/Chicago:20200420T160000
DTSTAMP:20260422T083649
CREATED:20200416T171109Z
LAST-MODIFIED:20200416T171109Z
UID:1349-1587394800-1587398400@cpcdc.org
SUMMARY:Get Your Local Business On Google Search and Maps
DESCRIPTION:Learn about Google My Business\, a free tool for local businesses who want to connect with customers on Google Search and Maps. Get hands-on help creating or updating your business profile or a simple website. \nIN THIS SESSION\, WE’LL SHOW YOU HOW TO \n\nCreate or claim your Business Profile on Google\nManage your business info across Google Search and Maps\nUse Google My Business to connect with  potential customers\nCreate a free website using the info from your Business Profile
URL:https://cpcdc.org/event/get-your-local-business-on-google-search-and-maps
LOCATION:OK
END:VEVENT
END:VCALENDAR