BEGIN:VCALENDAR
VERSION:2.0
PRODID:-//Citizen Potawatomi Community Development Corporation - ECPv6.14.2//NONSGML v1.0//EN
CALSCALE:GREGORIAN
METHOD:PUBLISH
X-WR-CALNAME:Citizen Potawatomi Community Development Corporation
X-ORIGINAL-URL:https://cpcdc.org
X-WR-CALDESC:Events for Citizen Potawatomi Community Development Corporation
REFRESH-INTERVAL;VALUE=DURATION:PT1H
X-Robots-Tag:noindex
X-PUBLISHED-TTL:PT1H
BEGIN:VTIMEZONE
TZID:America/Chicago
BEGIN:DAYLIGHT
TZOFFSETFROM:-0500
TZOFFSETTO:-0500
TZNAME:CDT
DTSTART:20200101T000000
END:DAYLIGHT
END:VTIMEZONE
BEGIN:VEVENT
DTSTART;TZID=America/Chicago:20200424T120000
DTEND;TZID=America/Chicago:20200424T130000
DTSTAMP:20260420T191337
CREATED:20200416T163537Z
LAST-MODIFIED:20200416T163537Z
UID:1345-1587729600-1587733200@cpcdc.org
SUMMARY:Statewide Women's Virtual Networking
DESCRIPTION:Online ZOOM Meeting\nMap and Directions \nDate/Time: \nApril 24th\, 2020\nStart Time: 12:00 pm\nEnd Time: 1:00 pm \n\nThis networking and business-building event is for business owners\, professionals and small business resource partners throughout Oklahoma. Join us to connect with those throughout the state to share ideas\, marketing tactics and resources. \nThis workshop will be conducted online using ZOOM Meeting. Prior to the start of the workshop\, you will be emailed instructions for logging into the meeting.  If you opt to call in to the number provided\, you will be unable to “see” all the features\, but will be able to hear the webinar. If possible\, we encourage you to take full advantage of the interactive training by using the link provided in the registration confirmation email you will receive prior to the training to join us “in person” using your phone or computer’s camera. \nYou will be redirected to PayPal to pay for registration. Fee is non-refundable. If you cannot attend\, your registration may be able to be transferred to another workshop. \nFunded in part through a cooperative agreement with the U.S. Small Business Administration. WBC and PRIME programs and services are provided on a nondiscriminatory basis. Reasonable accommodations for persons with disabilities and language assistance services for clients with limited English proficiency will be provided if requested at least two weeks in advance. Contact Lori Smith\, WBC Assistant at PO Box 1335\, Durant\, OK 74702 or call 800-658-2823. \n\n\n\nPrice: $0.00
URL:https://cpcdc.org/event/statewide-womens-virtual-networking
LOCATION:OK
END:VEVENT
END:VCALENDAR