BEGIN:VCALENDAR
VERSION:2.0
PRODID:-//Citizen Potawatomi Community Development Corporation - ECPv6.14.2//NONSGML v1.0//EN
CALSCALE:GREGORIAN
METHOD:PUBLISH
X-ORIGINAL-URL:https://cpcdc.org
X-WR-CALDESC:Events for Citizen Potawatomi Community Development Corporation
REFRESH-INTERVAL;VALUE=DURATION:PT1H
X-Robots-Tag:noindex
X-PUBLISHED-TTL:PT1H
BEGIN:VTIMEZONE
TZID:America/Chicago
BEGIN:DAYLIGHT
TZOFFSETFROM:-0500
TZOFFSETTO:-0500
TZNAME:CDT
DTSTART:20200101T000000
END:DAYLIGHT
END:VTIMEZONE
BEGIN:VEVENT
DTSTART;TZID=America/Chicago:20200618T100000
DTEND;TZID=America/Chicago:20200618T113000
DTSTAMP:20260419T135622
CREATED:20200613T035944Z
LAST-MODIFIED:20200613T035944Z
UID:1475-1592474400-1592479800@cpcdc.org
SUMMARY:Online Listings & Reviews
DESCRIPTION:It’s not enough to just set up a few listing and review sites. It’s important to know how to use these sites in a way that’s going to generate business and make potential buyers want to learn more. You’ll learn: \nWhere to be and how to optimize your profiles\nHow to encourage people to leave reviews\nHow to maintain your listing and review pages over time. \nStephen Koranda with Back to You Marketing will be the training expert for this online event. \nThank you for registering for a WBC workshop. We look forward to connecting with you! \nIf you have not done so already\, please take a few minutes to fill out our Business Assessment Form here https://reiwbc.org/business-assessment-form/\, and you will then receive the Zoom training link. This is *extra* important during this time because it helps us justify our federal funding. We appreciate you taking a minute to complete it! \nFunded in part through a cooperative agreement with the U.S. Small Business Administration. WBC and 7j programs and services are provided on a nondiscriminatory basis. Reasonable accommodations for persons with disabilities and language assistance services for clients with limited English proficiency will be provided if requested at least two weeks in advance. Contact Lori Smith\, WBC Assistant at PO Box 1335\, Durant\, OK 74702 or call 800-658-2823.
URL:https://cpcdc.org/event/online-listings-reviews
LOCATION:ONLINE
CATEGORIES:Free,Online,REI WBC,Shawnee Business
ATTACH;FMTTYPE=image/jpeg:https://cpcdc.org/wp-content/uploads/2020/06/online-listings-scaled.jpg
END:VEVENT
BEGIN:VEVENT
DTSTART;TZID=America/Chicago:20200618T120000
DTEND;TZID=America/Chicago:20200618T130000
DTSTAMP:20260419T135622
CREATED:20200613T042112Z
LAST-MODIFIED:20200613T042112Z
UID:1486-1592481600-1592485200@cpcdc.org
SUMMARY:Protecting Your Business From Fraud
DESCRIPTION:Are you familiar with the basic principles of assessing fraud risks for your small business? \nThis webinar\, presented by Deluxe Chief Brand Officer Amanda Brinkman and U.S. Bank Financial Services Veteran Morris Jackson II\, will cover smart tips for auditing your business finances as well as ways to monitor for potential risks to keep your business safe from fraud. \nYou’ll learn:\nHow to recognize the vulnerabilities of your business\nHow to audit your business for potential risk\nTips to limit your internal fraud risk\nBest practices to limit external fraud \nPresented by Amanda Brinkman \nAmanda Brinkman is the Chief Brand Officer at Deluxe and creator\, producer and host of the hit series Small Business Revolution. Alongside celebrity entrepreneur Robert Herjavec and renovation icon Ty Pennington\, Brinkman showcases her love for small towns by spearheading efforts to revitalize entire communities and providing makeovers to small businesses across America. \nAmanda is a nationally renowned brand expert\, public speaker\, and Forbes contributor. Her acclaimed career spans groundbreaking campaigns for brands like BMW\, Reebok and Sony\, in addition to her role as an inspiring female executive at Fortune 500 and Fortune 1000 companies. \nPresented by Morris Jackson II \nA 24-year veteran of the financial services and banking industry\, Morris Jackson II leads the Las Vegas market for U.S. Bank’s Consumer and Business Banking division. He oversees a team of more than 500 retail and business bankers with 64 retail branches\, focused on deepening relationships with existing customers and acquiring new ones.
URL:https://cpcdc.org/event/protecting-your-business-from-fraud
LOCATION:ONLINE
CATEGORIES:Free,Online,SCORE,Shawnee Business
ATTACH;FMTTYPE=image/jpeg:https://cpcdc.org/wp-content/uploads/2020/06/score-logo-1200x628-1.jpg
END:VEVENT
BEGIN:VEVENT
DTSTART;TZID=America/Chicago:20200618T180000
DTEND;TZID=America/Chicago:20200618T210000
DTSTAMP:20260419T135622
CREATED:20200204T153340Z
LAST-MODIFIED:20200204T153340Z
UID:1061-1592503200-1592514000@cpcdc.org
SUMMARY:Business Basics - Starting and Running Your Own Business
DESCRIPTION:To start your own business you need to know the questions to ask\, location and structure types\, how to register in Oklahoma\, preparation of the business plan\, understanding business financials\, and the steps to getting financed.  Federal\, state\, and local resources will also be discussed in this session.  This seminar is a broad overview of the different areas to consider when starting a new business.  There will be plenty of time allotted to ask questions of the instructors and business experts. \nSpeakers from Francis Tuttle\, Moore Norman Tech\, MidDel Tech\, SCORE\, OKSBDC\, and REI Women’s Business Center. \nPartners: Francis Tuttle Launch Pad\, Moore Norman Tech\, MidDel Tech\, SCORE\, OKSBDC\, and REI Women’s Business Center. \nYou will be redirected to PayPal to pay for registration. Fee is non-refundable. If you cannot attend\, your registration may be able to be transferred to another workshop.  \nFunded in part through a cooperative agreement with the U.S. Small Business Administration. WBC and PRIME programs and services are provided on a nondiscriminatory basis. Reasonable accommodations for persons with disabilities and language assistance services for clients with limited English proficiency will be provided if requested at least two weeks in advance. Contact Lori Smith\, WBC Assistant at PO Box 1335\, Durant\, OK 74702 or call 800-658-2823.
URL:https://cpcdc.org/event/business-basics-starting-and-running-your-own-business-4
LOCATION:Moore Norman Technology Center\, S. Penn Campus\, 13301 South Penn\, Oklahoma City\, OK\, 73170\, United States
ATTACH;FMTTYPE=image/jpeg:https://cpcdc.org/wp-content/uploads/2020/02/woman-2773007_1920.jpg
END:VEVENT
END:VCALENDAR