BEGIN:VCALENDAR
VERSION:2.0
PRODID:-//Citizen Potawatomi Community Development Corporation - ECPv6.14.2//NONSGML v1.0//EN
CALSCALE:GREGORIAN
METHOD:PUBLISH
X-WR-CALNAME:Citizen Potawatomi Community Development Corporation
X-ORIGINAL-URL:https://cpcdc.org
X-WR-CALDESC:Events for Citizen Potawatomi Community Development Corporation
REFRESH-INTERVAL;VALUE=DURATION:PT1H
X-Robots-Tag:noindex
X-PUBLISHED-TTL:PT1H
BEGIN:VTIMEZONE
TZID:America/Chicago
BEGIN:DAYLIGHT
TZOFFSETFROM:-0500
TZOFFSETTO:-0500
TZNAME:CDT
DTSTART:20200101T000000
END:DAYLIGHT
END:VTIMEZONE
BEGIN:VEVENT
DTSTART;TZID=America/Chicago:20200625T090000
DTEND;TZID=America/Chicago:20200625T120000
DTSTAMP:20260421T190218
CREATED:20200204T181933Z
LAST-MODIFIED:20200204T181933Z
UID:1065-1593075600-1593086400@cpcdc.org
SUMMARY:First Steps to Startup Success
DESCRIPTION:If you are planning to start a business\, please join us at a First Steps to Startup Success workshop. Please come prepared for great Q&A. The session provides overviews of: \nCommon startup questions\nOklahoma Taxes\nBusiness Structures\, Licenses & Permits\nHow to register a business in Oklahoma\nFinancing a business\nPreparing a business plan\nMarket Research\nBasics of marketing and easy ways to market a business \nUpon completing the class you will have the opportunity to schedule a one-on-one appointment with a business counselor in our office. We do not charge anything for our one-on-one sessions\, the class is $20. \nPresenters: Dewey Brandon\, OK Tax Commission; OKSBDC\, Choctaw Nation\, & REI Oklahoma representatives. \nDurant Area Chamber of Commerce\, OKSBDC\, Durant Main Street\, OSU Extension\, Choctaw Nation\, Imagine Durant and REI Women’s Business Center \nYou will be redirected to PayPal to pay for registration. Fee is non-refundable. If you cannot attend\, your registration may be able to be transferred to another workshop.  \nFunded in part through a cooperative agreement with the U.S. Small Business Administration. WBC and PRIME programs and services are provided on a nondiscriminatory basis. Reasonable accommodations for persons with disabilities and language assistance services for clients with limited English proficiency will be provided if requested at least two weeks in advance. Contact Lori Smith\, WBC Assistant at PO Box 1335\, Durant\, OK 74702 or call 800-658-2823.
URL:https://cpcdc.org/event/first-steps-to-startup-success-16
LOCATION:REI Oklahoma Conference Center\, 2912 Enterprise Blvd\, Durant\, OK\, 74701\, United States
CATEGORIES:REI WBC
ATTACH;FMTTYPE=image/jpeg:https://cpcdc.org/wp-content/uploads/2018/12/board-3695073_1920.jpg
END:VEVENT
BEGIN:VEVENT
DTSTART;TZID=America/Chicago:20200625T100000
DTEND;TZID=America/Chicago:20200625T113000
DTSTAMP:20260421T190218
CREATED:20200613T040521Z
LAST-MODIFIED:20200613T040521Z
UID:1481-1593079200-1593084600@cpcdc.org
SUMMARY:Virtual Training: Business Tax Basics & Ask the Expert
DESCRIPTION:Join us as we watch the Oklahoma Tax Commission video webinar which offers information on business formation\, business structures\, sales tax exemption\, new business registration in Oklahoma and explanation of the primary business tax forms. As an added bonus\, Savannah Dixon of Vann Dixon\, CPA will be on hand for a Q&A after the video is presented to answer any specific questions. \nProvided by REI Women’s Business Center. \nFunded in part through a cooperative agreement with the U.S. Small Business Administration. WBC and 7j programs and services are provided on a nondiscriminatory basis. Reasonable accommodations for persons with disabilities and language assistance services for clients with limited English proficiency will be provided if requested at least two weeks in advance. Contact Lori Smith\, WBC Assistant at PO Box 1335\, Durant\, OK 74702 or call 800-658-2823.
URL:https://cpcdc.org/event/virtual-training-business-tax-basics-ask-the-expert
LOCATION:ONLINE
CATEGORIES:Free,Oklahoma Tax Commission,Online,REI WBC,Shawnee Business
ATTACH;FMTTYPE=image/png:https://cpcdc.org/wp-content/uploads/2019/05/OK-Tax-Commission.png
END:VEVENT
END:VCALENDAR