BEGIN:VCALENDAR
VERSION:2.0
PRODID:-//Citizen Potawatomi Community Development Corporation - ECPv6.14.2//NONSGML v1.0//EN
CALSCALE:GREGORIAN
METHOD:PUBLISH
X-WR-CALNAME:Citizen Potawatomi Community Development Corporation
X-ORIGINAL-URL:https://cpcdc.org
X-WR-CALDESC:Events for Citizen Potawatomi Community Development Corporation
REFRESH-INTERVAL;VALUE=DURATION:PT1H
X-Robots-Tag:noindex
X-PUBLISHED-TTL:PT1H
BEGIN:VTIMEZONE
TZID:America/Chicago
BEGIN:DAYLIGHT
TZOFFSETFROM:-0500
TZOFFSETTO:-0500
TZNAME:CDT
DTSTART:20200101T000000
END:DAYLIGHT
END:VTIMEZONE
BEGIN:VEVENT
DTSTART;TZID=America/Chicago:20200728T090000
DTEND;TZID=America/Chicago:20200728T163000
DTSTAMP:20260420T103357
CREATED:20200605T221342Z
LAST-MODIFIED:20200612T164904Z
UID:1446-1595926800-1595953800@cpcdc.org
SUMMARY:Native Artist Professional Development - Day 2
DESCRIPTION:First Peoples Fund’s two-day training(s) give artists real-world tools and detailed resources to navigate the arts industry and become successful entrepreneurs. The training is intended for emerging and seasoned artists alike. \nAt the training\, we will work with you to help you grow your arts business. You will have an opportunity to participate in the following activities: \n• Express your personal vision and values that will ultimately become the principal foundation of your business.\n• Determine your art marketing\, business and financial management abilities using a series of self-assessment tools.\n• Budget and establish a successful pricing structure.\n• Market your business using  variety of approaches and tools.\n• Create your mission statement and present your art work. \nThis program is being offered in partnership with Citizen Potawatomi Community Development Corporation\nfor free on July 27-28 at 9:00am-4:30pm. \nLocation:\nCPN Cultural Center\n1899 S. Gordon Cooper Drive\nShawnee\, Ok 74801 \nQUESTIONS?\nContact Hillary Presecan\, First Peoples Fund Program Manager at (605) 348-0324 for more information.
URL:https://cpcdc.org/event/native-artist-professional-development-day-2
LOCATION:ONLINE
CATEGORIES:Free
ATTACH;FMTTYPE=image/png:https://cpcdc.org/wp-content/uploads/2020/06/NAPD-Banner.png
ORGANIZER;CN="First Peoples Fund":MAILTO:tosa@firstpeoplesfund.org
END:VEVENT
BEGIN:VEVENT
DTSTART;TZID=America/Chicago:20200728T100000
DTEND;TZID=America/Chicago:20200728T110000
DTSTAMP:20260420T103357
CREATED:20200722T161415Z
LAST-MODIFIED:20200722T161415Z
UID:1658-1595930400-1595934000@cpcdc.org
SUMMARY:Virtual Training QuickBooks Desktop: Downloading Bank Transactions
DESCRIPTION:Join us to hear from a certified Quickbooks pro advisor about: \n– downloading transactions from the bank into your Quickbooks desktop\n– how to identify and organize deposits\, bills\, and transfers\n– how to accept and deny transactions\n– setting up rules to save you time and energy \nThere will be plenty of time for discussion with the expert and an addition “tips and shortcuts” sheet provided at the conclusion of the virtual session. \nPresenter:  MJ Brienen\, QuickBooks Pro Advisor\nMJ Brienen is a seasoned professional focused on helping businesses in many stages of development to set-up\, maintain\, or fix their QuickBooks systems.  She works to help uncover the secrets to QuickBooks® and how the program can be used most effectively by businesses.  Brienen has a background in banking\, sales\, project management\, and working with websites. \nPartners: Back Office Success and REI Women’s Business Center. \nFunded in part through a cooperative agreement with the U.S. Small Business Administration. WBC and 7j programs and services are provided on a nondiscriminatory basis. Reasonable accommodations for persons with disabilities and language assistance services for clients with limited English proficiency will be provided if requested at least two weeks in advance. Contact Lori Smith\, WBC Assistant at PO Box 1335\, Durant\, OK 74702 or call 800-658-2823.
URL:https://cpcdc.org/event/virtual-training-quickbooks-desktop-downloading-bank-transactions
LOCATION:ONLINE
CATEGORIES:Free,Quickbooks,REI WBC,Shawnee Business
ATTACH;FMTTYPE=image/jpeg:https://cpcdc.org/wp-content/uploads/2019/05/32-328641_the-best-etsy-experience-for-quickbooks-online-intuit.jpg
END:VEVENT
END:VCALENDAR