BEGIN:VCALENDAR
VERSION:2.0
PRODID:-//Citizen Potawatomi Community Development Corporation - ECPv6.14.2//NONSGML v1.0//EN
CALSCALE:GREGORIAN
METHOD:PUBLISH
X-WR-CALNAME:Citizen Potawatomi Community Development Corporation
X-ORIGINAL-URL:https://cpcdc.org
X-WR-CALDESC:Events for Citizen Potawatomi Community Development Corporation
REFRESH-INTERVAL;VALUE=DURATION:PT1H
X-Robots-Tag:noindex
X-PUBLISHED-TTL:PT1H
BEGIN:VTIMEZONE
TZID:America/Chicago
BEGIN:DAYLIGHT
TZOFFSETFROM:-0500
TZOFFSETTO:-0500
TZNAME:CDT
DTSTART:20200101T000000
END:DAYLIGHT
END:VTIMEZONE
BEGIN:VEVENT
DTSTART;TZID=America/Chicago:20200804T100000
DTEND;TZID=America/Chicago:20200804T113000
DTSTAMP:20260422T054004
CREATED:20200722T162703Z
LAST-MODIFIED:20200722T162703Z
UID:1665-1596535200-1596540600@cpcdc.org
SUMMARY:Virtual Training: How To Write a Business Plan
DESCRIPTION:This workshop will take you through the step-by-step process of developing a business plan. While each business needs a unique plan\, the basic elements are the same. You will receive a template to work from\, and REI WBC representatives will be available to review your plan and make suggestions during the ongoing process. \nPresenters: REI Women’s Business Center \nFunded in part through a cooperative agreement with the U.S. Small Business Administration. WBC and 7j programs and services are provided on a nondiscriminatory basis. Reasonable accommodations for persons with disabilities and language assistance services for clients with limited English proficiency will be provided if requested at least two weeks in advance. Contact Lori Smith\, WBC Assistant at PO Box 1335\, Durant\, OK 74702 or call 800-658-2823.
URL:https://cpcdc.org/event/virtual-training-how-to-write-a-business-plan-2
LOCATION:ONLINE
CATEGORIES:Free,Online,REI WBC,Shawnee Business
ATTACH;FMTTYPE=image/jpeg:https://cpcdc.org/wp-content/uploads/2020/06/laptop-3196481_1920.jpg
END:VEVENT
BEGIN:VEVENT
DTSTART;TZID=America/Chicago:20200804T120000
DTEND;TZID=America/Chicago:20200804T130000
DTSTAMP:20260422T054004
CREATED:20200722T162134Z
LAST-MODIFIED:20200722T162134Z
UID:1663-1596542400-1596546000@cpcdc.org
SUMMARY:Enid Women In Business: Virtual Networking
DESCRIPTION:Join us for some Virtual Networking!  It’s a great time to reconnect and support each other and our businesses.  This virtual networking event will provide an opportunity to unite\, learn from a time of some facilitated conversation\, share resources\, and encourage each other. \nThis workshop will be conducted online using ZOOM Meeting. Prior to the start of the workshop\, you will be emailed instructions for logging into the meeting. If you opt to call in to the number provided\, you will be unable to “see” all the features\, but will be able to hear the webinar. If possible\, we encourage you to take full advantage of the interactive training by using the link provided in the registration confirmation email you will receive prior to the training to join us “in person” using your phone or computer’s camera. \nFunded in part through a cooperative agreement with the U.S. Small Business Administration. WBC and 7j programs and services are provided on a nondiscriminatory basis. Reasonable accommodations for persons with disabilities and language assistance services for clients with limited English proficiency will be provided if requested at least two weeks in advance. Contact Lori Smith\, WBC Assistant at PO Box 1335\, Durant\, OK 74702 or call 800-658-2823.
URL:https://cpcdc.org/event/enid-women-in-business-virtual-networking
LOCATION:ONLINE
CATEGORIES:Free,Online,REI WBC,Shawnee Business
ATTACH;FMTTYPE=image/jpeg:https://cpcdc.org/wp-content/uploads/2019/05/network-1722861_1920.jpg
END:VEVENT
END:VCALENDAR