BEGIN:VCALENDAR
VERSION:2.0
PRODID:-//Citizen Potawatomi Community Development Corporation - ECPv6.14.2//NONSGML v1.0//EN
CALSCALE:GREGORIAN
METHOD:PUBLISH
X-ORIGINAL-URL:https://cpcdc.org
X-WR-CALDESC:Events for Citizen Potawatomi Community Development Corporation
REFRESH-INTERVAL;VALUE=DURATION:PT1H
X-Robots-Tag:noindex
X-PUBLISHED-TTL:PT1H
BEGIN:VTIMEZONE
TZID:America/Chicago
BEGIN:DAYLIGHT
TZOFFSETFROM:-0500
TZOFFSETTO:-0500
TZNAME:CDT
DTSTART:20200101T000000
END:DAYLIGHT
END:VTIMEZONE
BEGIN:VEVENT
DTSTART;TZID=America/Chicago:20200806T081500
DTEND;TZID=America/Chicago:20200806T100000
DTSTAMP:20260422T233740
CREATED:20200218T191745Z
LAST-MODIFIED:20200218T191745Z
UID:1205-1596701700-1596708000@cpcdc.org
SUMMARY:OKC Women's Business Breakfast 2020
DESCRIPTION:The OKC Women’s Business Breakfast is a monthly networking and business-building event. This opportunity enables you to interact with other women in business and potential customers\, build your network\, and market your business!  Bring your business cards and join us for this exclusive networking meeting for women business owners\, professionals and small business resource partners. \nAt this event you can expect to: \n\nConnect through interactive discussions and activities.\nLearn from other women entrepreneurs and professionals in the area.\nHear the latest in resource services for women entrepreneurs.\n\nFree to attend.  Breakfast sponsorships available. \nThe OKC Women’s Business Breakfast meets the first Thursday morning of every month.  Breakfast sponsorships are available.  Contact Jennifer Edwards at 800-658-2823 or jedwards@reiok.org. \nPartners: Pioneer Library System\, State Chamber of Oklahoma\, and REI Women’s Business Center. \nFunded in part through a cooperative agreement with the U.S. Small Business Administration. WBC and PRIME programs and services are provided on a nondiscriminatory basis. Reasonable accommodations for persons with disabilities and language assistance services for clients with limited English proficiency will be provided if requested at least two weeks in advance. Contact Lori Smith\, WBC Assistant at PO Box 1335\, Durant\, OK 74702 or call 800-658-2823. \n  \n\n\n\nPrice: $0.00
URL:https://cpcdc.org/event/okc-womens-business-breakfast-2020-7
LOCATION:The Walker Building\, 1300 N. Walker Avenue\, Oklahoma City\, OK\, 73103\, United States
ATTACH;FMTTYPE=image/jpeg:https://cpcdc.org/wp-content/uploads/2018/05/breakfast-meeting.jpg
END:VEVENT
BEGIN:VEVENT
DTSTART;TZID=America/Chicago:20200806T120000
DTEND;TZID=America/Chicago:20200806T130000
DTSTAMP:20260422T233740
CREATED:20200710T213754Z
LAST-MODIFIED:20200710T213754Z
UID:1617-1596715200-1596718800@cpcdc.org
SUMMARY:Reopening and Staying Open - How to Assess the Past 60 Days and Prepare for What's Next
DESCRIPTION:If you’re like many businesses\, you are probably working overtime to navigate the ever-changing landscape created by C19. Whether you’ve already reopened or will be opening this summer\, August will be an ideal time to assess what you’ve experienced already and develop a strategic plan for the rest of the year. \nThis session\, presented by SCORE mentor Suzanne McGrath\, will help business owners – including retailers and restaurants – learn from the experience they’ve had over the summer to:\nCreate a pro forma Profit & Loss statement as a basis for planning the next 12 months\nMinimize costs and maximize revenue through market positioning\nDevelop strategies for dealing with capacity limits\, especially in a restaurant context\nConsider how to plan for a potential second wave as well as long term changes in consumer behavior\nAnalyze options for dealing with lease issues\nThe goal of this webinar is to address these very real issues that will continue to pose existential challenges to many businesses at least through the next year. \nPresented by Suzanne McGrath \nWith over 15 years’ experience as a retailer\, restaurant owner\, and event developer\, Suzanne helps clients who are running or thinking of starting a retail business\, restaurant\, or other food or beverage-related business (cafes\, caterers\, etc.).   She provides guidance on concept development\, the start-up process\, marketing\, and operations\, as well as defining and solving business problems. \nPrior experience as a lawyer also enables her to assist with avoiding and addressing legal issues. \nSponsored by Progressive Commercial Insurance
URL:https://cpcdc.org/event/reopening-and-staying-open-how-to-assess-the-past-60-days-and-prepare-for-whats-next
LOCATION:ONLINE
CATEGORIES:Online,SCORE,Shawnee Business
ATTACH;FMTTYPE=image/jpeg:https://cpcdc.org/wp-content/uploads/2018/12/reboot.jpg
END:VEVENT
END:VCALENDAR