BEGIN:VCALENDAR
VERSION:2.0
PRODID:-//Citizen Potawatomi Community Development Corporation - ECPv6.14.2//NONSGML v1.0//EN
CALSCALE:GREGORIAN
METHOD:PUBLISH
X-WR-CALNAME:Citizen Potawatomi Community Development Corporation
X-ORIGINAL-URL:https://cpcdc.org
X-WR-CALDESC:Events for Citizen Potawatomi Community Development Corporation
REFRESH-INTERVAL;VALUE=DURATION:PT1H
X-Robots-Tag:noindex
X-PUBLISHED-TTL:PT1H
BEGIN:VTIMEZONE
TZID:America/Chicago
BEGIN:DAYLIGHT
TZOFFSETFROM:-0500
TZOFFSETTO:-0500
TZNAME:CDT
DTSTART:20200101T000000
END:DAYLIGHT
END:VTIMEZONE
BEGIN:VEVENT
DTSTART;TZID=America/Chicago:20200811T100000
DTEND;TZID=America/Chicago:20200811T110000
DTSTAMP:20260425T110906
CREATED:20200626T160205Z
LAST-MODIFIED:20200626T160205Z
UID:1608-1597140000-1597143600@cpcdc.org
SUMMARY:How to Leverage a Virtual Assistant in a Pandemic
DESCRIPTION:A Virtual Assistant can be a valuable asset for any business but especially when resources are scarce and access to funds is limited\, such as during the current pandemic.  Leveraging a VA can help you manage your time more effectively and allow you to focus on activities that translate faster to business development and growth. \nIn this webinar\, presented by Owner of Virtual Assist USA Danielle Julia Cuomo\, you’ll learn:\nHow outsourcing can save your business\nHow to plan versus panic in times of uncertainty\nHow you can afford a Virtual Assistant\nHow to figure out what to delegate to a Virtual Assistant \nPresented by Danielle Julia Cuomo \nDanielle Julia Cuomo\, owner of business services firm Virtual Assist USA\, is an award-winning entrepreneur and author. Virtual Assist USA is an early disrupter and leading provider of virtual assistant services that help to keep thousands of companies on track\, focused\, and growing. Under her innovative leadership\, Virtual Assist USA has continued to grow every year and is a top reviewed company in this space.  In addition to working with Virtual Assist USA\, Danielle had served as a board member\, committee member & volunteer for various charities. She is also an ongoing entrepreneurial advisor for Reese International and was honored as a featured mentor at Chatham University. \nDanielle is a seasoned professional with more than 12 years of experience starting\, developing\, and leading local and national businesses across a variety of growth industries.  Danielle is a graduate of The Pennsylvania State University\, where she received her Bachelor’s Degree and Master’s in Business Administration.  She believes in the power of small businesses and the American dream and says “Small businesses are the lifeline of America. I hope to continue to contribute by making my client’s dreams come true\, which is the most rewarding of all.”
URL:https://cpcdc.org/event/how-to-leverage-a-virtual-assistant-in-a-pandemic
LOCATION:ONLINE
CATEGORIES:Free,Online,SCORE,Shawnee Business
ATTACH;FMTTYPE=image/jpeg:https://cpcdc.org/wp-content/uploads/2020/06/chatbot-4071274_1920.jpg
END:VEVENT
BEGIN:VEVENT
DTSTART;TZID=America/Chicago:20200811T130000
DTEND;TZID=America/Chicago:20200811T153000
DTSTAMP:20260425T110906
CREATED:20200722T184927Z
LAST-MODIFIED:20200722T184927Z
UID:1670-1597150800-1597159800@cpcdc.org
SUMMARY:Virtual Training: QuickBooks Desktop: All About Lists
DESCRIPTION:Join us to hear from a certified QuickBooks pro advisor and learn all about lists: \nThe chart of accounts\nEditing\, Merging\, Renaming\, Making Accounts Inactive\nCustomer\, Vendor and Product Lists\nSales Tax and Class Tacking Lists \nThere will be plenty of time for discussion with the expert and an addition “tips and shortcuts” sheet provided at the conclusion of the virtual session. \nPresenter:  MJ Brienen\, Certified QuickBooks Pro Advisor \nFunded in part through a cooperative agreement with the U.S. Small Business Administration. WBC programs and services are provided on a nondiscriminatory basis. Reasonable accommodations for persons with disabilities and language assistance services for clients with limited English proficiency will be provided if requested at least two weeks in advance. Contact Lori Smith\, WBC Assistant at PO Box 1335\, Durant\, OK 74702 or call 800-658-2823.
URL:https://cpcdc.org/event/virtual-training-quickbooks-desktop-all-about-lists
LOCATION:ONLINE
CATEGORIES:Free,Online,Quickbooks,REI WBC,Shawnee Business
ATTACH;FMTTYPE=image/jpeg:https://cpcdc.org/wp-content/uploads/2019/05/32-328641_the-best-etsy-experience-for-quickbooks-online-intuit.jpg
END:VEVENT
END:VCALENDAR