BEGIN:VCALENDAR
VERSION:2.0
PRODID:-//Citizen Potawatomi Community Development Corporation - ECPv6.14.2//NONSGML v1.0//EN
CALSCALE:GREGORIAN
METHOD:PUBLISH
X-WR-CALNAME:Citizen Potawatomi Community Development Corporation
X-ORIGINAL-URL:https://cpcdc.org
X-WR-CALDESC:Events for Citizen Potawatomi Community Development Corporation
REFRESH-INTERVAL;VALUE=DURATION:PT1H
X-Robots-Tag:noindex
X-PUBLISHED-TTL:PT1H
BEGIN:VTIMEZONE
TZID:America/Chicago
BEGIN:DAYLIGHT
TZOFFSETFROM:-0500
TZOFFSETTO:-0500
TZNAME:CDT
DTSTART:20200101T000000
END:DAYLIGHT
END:VTIMEZONE
BEGIN:VEVENT
DTSTART;TZID=America/Chicago:20200818T100000
DTEND;TZID=America/Chicago:20200818T113000
DTSTAMP:20260421T160651
CREATED:20200722T190543Z
LAST-MODIFIED:20200722T190543Z
UID:1672-1597744800-1597750200@cpcdc.org
SUMMARY:Virtual Training: Business Tax Basics & Ask the Expert
DESCRIPTION:Join us to view an informative video presentation from the Oklahoma Tax Commission\, which offers detailed information on: business formation\, business structures\, sales tax exemption\, new business registration in Oklahoma and explanation of the primary business tax forms.  Following the video\, we’ll hear from Savannah Dixon of Vann Dixon\, CPA who will provide further information on small business tax concerns and answer any specific questions from participants. \nPresenters: REI Women’s Business Center \nFunded in part through a cooperative agreement with the U.S. Small Business Administration. WBC and 7j programs and services are provided on a nondiscriminatory basis. Reasonable accommodations for persons with disabilities and language assistance services for clients with limited English proficiency will be provided if requested at least two weeks in advance. Contact Lori Smith\, WBC Assistant at PO Box 1335\, Durant\, OK 74702 or call 800-658-2823.
URL:https://cpcdc.org/event/virtual-training-business-tax-basics-ask-the-expert-3
LOCATION:ONLINE
CATEGORIES:Free,Online,REI WBC,Shawnee Business
ATTACH;FMTTYPE=image/jpeg:https://cpcdc.org/wp-content/uploads/2018/05/businesstax.jpg
END:VEVENT
END:VCALENDAR