BEGIN:VCALENDAR
VERSION:2.0
PRODID:-//Citizen Potawatomi Community Development Corporation - ECPv6.14.2//NONSGML v1.0//EN
CALSCALE:GREGORIAN
METHOD:PUBLISH
X-ORIGINAL-URL:https://cpcdc.org
X-WR-CALDESC:Events for Citizen Potawatomi Community Development Corporation
REFRESH-INTERVAL;VALUE=DURATION:PT1H
X-Robots-Tag:noindex
X-PUBLISHED-TTL:PT1H
BEGIN:VTIMEZONE
TZID:America/Chicago
BEGIN:DAYLIGHT
TZOFFSETFROM:-0500
TZOFFSETTO:-0500
TZNAME:CDT
DTSTART:20200101T000000
END:DAYLIGHT
END:VTIMEZONE
BEGIN:VEVENT
DTSTART;TZID=America/Chicago:20200825T080000
DTEND;TZID=America/Chicago:20200825T093000
DTSTAMP:20260421T181633
CREATED:20200218T191909Z
LAST-MODIFIED:20200218T191909Z
UID:1207-1598342400-1598347800@cpcdc.org
SUMMARY:WAGONER WOMEN IN BUSINESS BREAKFAST
DESCRIPTION:Discover the power of networking at the Wagoner Women’s Business Breakfast hosted by the Wagoner Chamber of Commerce\, Indian Capital Technology Center and REI Women’s Business Center. This event will enable you to connect with countless potential customers\, build your business contacts and have a great sense of community throughout the area. \nBring your business cards!  Register online. \nPartners: Wagoner Chamber of Commerce\, Indian Capital Technology Center\, and REI Women’s Business Center. \nBreakfast sponsorships are available.  Contact Leslie Browand\, 800.658.2823 for more information. \nFunded in part through a cooperative agreement with the U.S. Small Business Administration. WBC and 7j programs and services are provided on a nondiscriminatory basis. Reasonable accommodations for persons with disabilities and language assistance services for clients with limited English proficiency will be provided if requested at least two weeks in advance. Contact Lori Smith\, WBC Assistant at PO Box 1335\, Durant\, OK 74702 or call 800-658-2823. \n\n\n\nPrice: $0.00
URL:https://cpcdc.org/event/wagoner-women-in-business-breakfast-3
LOCATION:Wagoner Chamber of Commerce\, 301 S. Grant\, Wagoner\, OK\, 74467\, United States
ATTACH;FMTTYPE=image/jpeg:https://cpcdc.org/wp-content/uploads/2018/05/breakfast-meeting.jpg
END:VEVENT
BEGIN:VEVENT
DTSTART;TZID=America/Chicago:20200825T120000
DTEND;TZID=America/Chicago:20200825T130000
DTSTAMP:20260421T181633
CREATED:20200626T181019Z
LAST-MODIFIED:20200626T181019Z
UID:1614-1598356800-1598360400@cpcdc.org
SUMMARY:How to Run Great Virtual Events
DESCRIPTION:Running virtual events can be challenging\, especially if you’ve never run one before. However\, with a little preparation\, tips\, and knowing what to expect\, you can rock your next virtual event. \nJoin us for this webinar\, presented by digital marketing expert Jenna Shaffer\, to hear how to run a great virtual event. \nMore specifically\, you’ll learn:\nHow to prepare for your virtual event\nRunning your event and keeping people engaged\nHow to follow-up after your event \nPresented by Jenna Shaffer \nDigital marketing expert\, Jenna Shaffer\, brings her vast knowledge to thousands of small businesses and nonprofits helping them maximize their marketing success. With over a decade of experience at Constant Contact\, Jenna has taken on various roles but has most recently enjoyed her most current role as a Programs Marketing Manager and public speaker. \nBorn and raised in a family of small business owners\, she is passionate and inspired by small business owners and is highly driven to help them succeed. \nSponsored by \nAccess additional resources from Constant Contact and take advantage of Real-Time Mentoring from SCORE Certified Mentors: https://www.score.org/real-time-mentoring
URL:https://cpcdc.org/event/how-to-run-great-virtual-events
LOCATION:ONLINE
CATEGORIES:Free,Online,SCORE,Shawnee Business
ATTACH;FMTTYPE=image/jpeg:https://cpcdc.org/wp-content/uploads/2020/06/video-conference-5167472_1920.jpg
END:VEVENT
BEGIN:VEVENT
DTSTART;TZID=America/Chicago:20200825T130000
DTEND;TZID=America/Chicago:20200825T153000
DTSTAMP:20260421T181633
CREATED:20200722T191407Z
LAST-MODIFIED:20200722T191407Z
UID:1674-1598360400-1598369400@cpcdc.org
SUMMARY:QuickBooks Desktop: All About Transactions
DESCRIPTION:Join us to hear from a certified QuickBooks pro advisor and learn all about Transactions: \nWriting a check or using a debit card\nReconciling accounts\nInvoicing your customer\nRecording payments\nCreating a purchase order\nPaying bills and Banking\nAssets & Depreciation\nManaging Liabilities\nThere will be plenty of time for discussion with the expert and an addition “tips and shortcuts” sheet provided at the conclusion of the virtual session. \nPresenter:  MJ Brienen\, Certified QuickBooks Pro Advisor\nMJ Brienen is a seasoned professional focused on helping businesses in many stages of development to set-up\, maintain\, or fix their QuickBooks systems.  She works to help uncover the secrets to QuickBooks® and how the program can be used most effectively by businesses.  Brienen has a background in banking\, sales\, project management\, and working with websites. \nPartners: Back Office Success and REI Women’s Business Center \nFunded in part through a cooperative agreement with the U.S. Small Business Administration. WBC and 7j programs and services are provided on a nondiscriminatory basis. Reasonable accommodations for persons with disabilities and language assistance services for clients with limited English proficiency will be provided if requested at least two weeks in advance. Contact Lori Smith\, WBC Assistant at PO Box 1335\, Durant\, OK 74702 or call 800-658-2823.
URL:https://cpcdc.org/event/quickbooks-desktop-all-about-transactions
LOCATION:ONLINE
CATEGORIES:Free,Online,Quickbooks,REI WBC,Shawnee Business
ATTACH;FMTTYPE=image/jpeg:https://cpcdc.org/wp-content/uploads/2019/05/32-328641_the-best-etsy-experience-for-quickbooks-online-intuit.jpg
END:VEVENT
END:VCALENDAR