BEGIN:VCALENDAR
VERSION:2.0
PRODID:-//Citizen Potawatomi Community Development Corporation - ECPv6.14.2//NONSGML v1.0//EN
CALSCALE:GREGORIAN
METHOD:PUBLISH
X-ORIGINAL-URL:https://cpcdc.org
X-WR-CALDESC:Events for Citizen Potawatomi Community Development Corporation
REFRESH-INTERVAL;VALUE=DURATION:PT1H
X-Robots-Tag:noindex
X-PUBLISHED-TTL:PT1H
BEGIN:VTIMEZONE
TZID:America/Chicago
BEGIN:DAYLIGHT
TZOFFSETFROM:-0500
TZOFFSETTO:-0500
TZNAME:CDT
DTSTART:20200101T000000
END:DAYLIGHT
END:VTIMEZONE
BEGIN:VTIMEZONE
TZID:America/New_York
BEGIN:DAYLIGHT
TZOFFSETFROM:-0400
TZOFFSETTO:-0400
TZNAME:EDT
DTSTART:20200101T000000
END:DAYLIGHT
END:VTIMEZONE
BEGIN:VEVENT
DTSTART;TZID=America/Chicago:20201027T113000
DTEND;TZID=America/Chicago:20201027T123000
DTSTAMP:20260419T122449
CREATED:20201020T184235Z
LAST-MODIFIED:20201020T184512Z
UID:1911-1603798200-1603801800@cpcdc.org
SUMMARY:Virtual Training: Use YouTube To Grow Your Business
DESCRIPTION:Get best practices for creating a YouTube Channel and compelling video content that promotes your products and services and drives engagement with your brand. \nIn this workshop we’ll discuss best practices for: \n\nUnderstanding different video formats\nHow to setup a YouTube channel\nMaking good creative\, and how to target and measure the results\n\nPresenter: Maria Elena Duron\, Grow With Google Professional Trainer \nPartners: Google\, Kiamichi Technology\, Southwest Technology Center\, Central Technology Center\, and REI Women’s Business Center. \nFunded in part through a cooperative agreement with the U.S. Small Business Administration. WBC and 7j programs and services are provided on a nondiscriminatory basis. Reasonable accommodations for persons with disabilities and language assistance services for clients with limited English proficiency will be provided if requested at least two weeks in advance. Contact Lori Smith\, WBC Assistant at PO Box 1335\, Durant\, OK 74702 or call 800-658-2823.
URL:https://cpcdc.org/event/virtual-training-use-youtube-to-grow-your-business
LOCATION:ONLINE
END:VEVENT
BEGIN:VEVENT
DTSTART;TZID=America/New_York:20201027T173000
DTEND;TZID=America/New_York:20201027T190000
DTSTAMP:20260419T122449
CREATED:20201020T195251Z
LAST-MODIFIED:20201020T195610Z
UID:1929-1603819800-1603825200@cpcdc.org
SUMMARY:UNDERSTANDING & IMPROVING YOUR CASH FLOW
DESCRIPTION:Cash flow is the lifeblood of any business. Without it\, the enterprise cannot pay its bills\, compensate its employees\, reinvest in growth\, and serve its customers. Are you having cash flow challenges in your business? If so\, please join us to learn how you can improve your cash flow\, reduce costs\, and operate more efficiently. \n  \n*For those located in Philadelphia\, PA only
URL:https://cpcdc.org/event/understanding-improving-your-cash-flow
LOCATION:ONLINE
ORGANIZER;CN="PDIC":MAILTO:info@PIDCphila.com
END:VEVENT
END:VCALENDAR