BEGIN:VCALENDAR
VERSION:2.0
PRODID:-//Citizen Potawatomi Community Development Corporation - ECPv6.14.2//NONSGML v1.0//EN
CALSCALE:GREGORIAN
METHOD:PUBLISH
X-ORIGINAL-URL:https://cpcdc.org
X-WR-CALDESC:Events for Citizen Potawatomi Community Development Corporation
REFRESH-INTERVAL;VALUE=DURATION:PT1H
X-Robots-Tag:noindex
X-PUBLISHED-TTL:PT1H
BEGIN:VTIMEZONE
TZID:America/Chicago
BEGIN:DAYLIGHT
TZOFFSETFROM:-0500
TZOFFSETTO:-0500
TZNAME:CDT
DTSTART:20210101T000000
END:DAYLIGHT
END:VTIMEZONE
BEGIN:VEVENT
DTSTART;TZID=America/Chicago:20210113T130000
DTEND;TZID=America/Chicago:20210113T143000
DTSTAMP:20260422T074912
CREATED:20201228T212615Z
LAST-MODIFIED:20201228T212615Z
UID:2046-1610542800-1610548200@cpcdc.org
SUMMARY:Business Financials
DESCRIPTION:From checking the viability of your new business model to calculating your break-even point\, join for a session on financial management.\n\n\n\n\n\nAbout this Event\n\n\nFuture Proof is a program that assists businesses with identifying new markets\, pivoting their business model\, and developing and implementing a deep digital transformation plan. Join via Zoom link below. \n  \nUnderstanding your financials gives you the confidence you need to make sure you’re always making the decision that’s right for you and your business. It takes the unpredictability out of running a business\, allows you to learn from the past\, and to plan for the future. And it doesn’t have to be hard. \n  \nIn this interactive online Q&A session\, we’ll cover the financials you need to know as a business owner and how to calculate your break-even point. You’ll get a unique opportunity to get simple and direct answers from experts about your most pressing financial questions. \n  \nJoin us for a short presentation on: \n● How to check the viability of your new business model. \n● How to calculate your new break-even point. \n● Financial management strategies to grow your businesses. \n  \nFollowed by a Q&A: \n● We’ll discuss some of the unique challenges small business owners are facing and how to deal with them \n● You will get the opportunity to have your questions answered by entrepreneurs who understand the challenges you’re going through \n  \nSign up today to secure your spot and start growing your business. \n  \nPlease register and complete the survey questions upon checkout. Please note that this session will be recorded. Join via Zoom here at 2pm.
URL:https://cpcdc.org/event/business-financials
LOCATION:ONLINE
CATEGORIES:BizLaunch
END:VEVENT
BEGIN:VEVENT
DTSTART;TZID=America/Chicago:20210113T133000
DTEND;TZID=America/Chicago:20210113T153000
DTSTAMP:20260422T074912
CREATED:20201211T171841Z
LAST-MODIFIED:20201211T171841Z
UID:1995-1610544600-1610551800@cpcdc.org
SUMMARY:Virtual Event: Telling Your Business Story
DESCRIPTION:Looking to build a meaningful connection with your current and potential customers?  Join us for\, “Telling Your Business Story”.  We’ll complete activities to help you clearly explain why you became an entrepreneur\, and why it’s a great choice to do business with you.  From determining who is most likely to buy your products/services\, to creating a clear and concise story of your business\, you’ll gain the ability to better connect with the right people\, in the right place.          \n This workshop will help you: \n\n Define Your Target Audience\nSimplify Your Brand\nCraft A Message That Relates To Those You Serve\nCultivate a Stronger Brand Position Within The Marketplace  \n\nPresenters: Kelby Owens\, REI Oklahoma \nWorkshop provided by REI Women’s Business Center. \nFunded in part through a cooperative agreement with the U.S. Small Business Administration. WBC and 7j programs and services are provided on a nondiscriminatory basis. Reasonable accommodations for persons with disabilities and language assistance services for clients with limited English proficiency will be provided if requested at least two weeks in advance. Contact Lori Smith\, WBC Assistant at PO Box 1335\, Durant\, OK 74702 or call 800-658-2823. Registration fees are non-refundable. You will be given a credit for a future training should this event be cancelled.
URL:https://cpcdc.org/event/virtual-event-telling-your-business-story
LOCATION:ONLINE
END:VEVENT
END:VCALENDAR