BEGIN:VCALENDAR
VERSION:2.0
PRODID:-//Citizen Potawatomi Community Development Corporation - ECPv6.14.2//NONSGML v1.0//EN
CALSCALE:GREGORIAN
METHOD:PUBLISH
X-ORIGINAL-URL:https://cpcdc.org
X-WR-CALDESC:Events for Citizen Potawatomi Community Development Corporation
REFRESH-INTERVAL;VALUE=DURATION:PT1H
X-Robots-Tag:noindex
X-PUBLISHED-TTL:PT1H
BEGIN:VTIMEZONE
TZID:America/Chicago
BEGIN:DAYLIGHT
TZOFFSETFROM:-0500
TZOFFSETTO:-0500
TZNAME:CDT
DTSTART:20210101T000000
END:DAYLIGHT
END:VTIMEZONE
BEGIN:VEVENT
DTSTART;TZID=America/Chicago:20210119T110000
DTEND;TZID=America/Chicago:20210119T130000
DTSTAMP:20260422T074906
CREATED:20210115T180754Z
LAST-MODIFIED:20210115T180754Z
UID:2154-1611054000-1611061200@cpcdc.org
SUMMARY:How to Create a Marketing Message So Customers Will Listen
DESCRIPTION:About\n\nClarify your marketing message to connect with customers and increase sales. \nMost business leaders lost thousands of dollars when COVID-19 hit because they weren’t prepared to sell online. Bricks-To-Clicks® provides marketing workshops to help small businesses clarify their marketing message to connect with customers so sales increase. \nThe Missouri SBDC is offering three online courses to help business owners clarify their message to connect with customers and boost cash flow. Each course will be two hours in length and delivered online via Zoom. \nMost companies waste an enormous amount of money on marketing. This course explains the Storybrand marketing framework. The instructor helps business owners create a one-liner to connect with customers to boost sales. A How to Create a One-Liner handout will be given to participants.
URL:https://cpcdc.org/event/how-to-create-a-marketing-message-so-customers-will-listen
LOCATION:ONLINE
CATEGORIES:Free,Marketing
ORGANIZER;CN="Missouri Small Business Development Centers":MAILTO:info@mosourcelink.com
END:VEVENT
BEGIN:VEVENT
DTSTART;TZID=America/Chicago:20210119T120000
DTEND;TZID=America/Chicago:20210119T130000
DTSTAMP:20260422T074906
CREATED:20201211T175951Z
LAST-MODIFIED:20201211T175951Z
UID:2031-1611057600-1611061200@cpcdc.org
SUMMARY:How to Find and Get a Small Business Grant
DESCRIPTION:Small business grants are an entrepreneur’s dream\, because they offer money that does not have to be repaid. But finding\, applying for and winning small business grants can be daunting. \nIn this webinar\, presented by Education Director of Nav Gerri Detweiler\, you’ll learn: \n\nThe main sources of grants\, including both private and federal grants\nTools for researching small business grants\nApplication tips to increase your chances of being successful\nIs there really free money to start a business?\nThe current state of COVID-19 small business grants\n\nPresented by Gerri Detweiler \nGerri Detweiler has more than twenty years of experience guiding individuals through the confusing world of credit\, and has earned a reputation as a reliable and independent resource \nGerri serves as Education Director for Nav\, the first site to give business owners free personal and business credit scores and tools to build financially healthy companies. There she develops educational programs and content for small business owners\, and works on advocacy initiatives. \nSponsored by Nav
URL:https://cpcdc.org/event/how-to-find-and-get-a-small-business-grant
LOCATION:ONLINE
CATEGORIES:Free,Online,SCORE
END:VEVENT
BEGIN:VEVENT
DTSTART;TZID=America/Chicago:20210119T130000
DTEND;TZID=America/Chicago:20210119T143000
DTSTAMP:20260422T074906
CREATED:20201228T212911Z
LAST-MODIFIED:20201228T212911Z
UID:2048-1611061200-1611066600@cpcdc.org
SUMMARY:How to Use Email Marketing to Grow Your Business
DESCRIPTION:Join us for an interactive online Q&A session that’ll teach you how to start\, grow\, or scale your email marketing to make more profit.\n\n\n\n\n\nAbout this Event\n\n\nFuture Proof is a program that assists businesses with identifying new markets\, pivoting their business model\, and developing and implementing a deep digital transformation plan. Join via Zoom link below. \n  \nEmail is one of the oldest and easiest ways to make money in e-commerce for businesses of any size. Today\, whether you’re selling online or in person\, effective email marketing can create a steady flow of predictable and consistent sales that can become a major source of income for any business. \n  \nEmail may seem intimidating\, but it’s incredibly easy to start\, maintain\, and grow an email list that converts for any small business. \n  \nJoin us for an interactive online Q&A session that’ll teach you how to start\, grow\, or scale your email marketing to make more profit. \n  \nJoin us for a short presentation on \n● How any business can start using email today to generate sales \n● Tools and tricks that make email marketing almost automatic \n● How to grow your email list and drive sales online \n  \nFollowed by a Q&A session where \n● We’ll discuss some of the unique challenges small business owners are facing and how to deal with them \n● You will get the opportunity to have your questions answered by entrepreneurs who understand the challenges you’re going through \n  \nSign up today to secure your spot and start growing your business. \n  \nPlease register and complete the survey questions upon checkout. Please note that this session will be recorded. Join via Zoom here at 2pm.
URL:https://cpcdc.org/event/how-to-use-email-marketing-to-grow-your-business
LOCATION:ONLINE
CATEGORIES:BizLaunch
END:VEVENT
END:VCALENDAR