BEGIN:VCALENDAR
VERSION:2.0
PRODID:-//Citizen Potawatomi Community Development Corporation - ECPv6.14.2//NONSGML v1.0//EN
CALSCALE:GREGORIAN
METHOD:PUBLISH
X-WR-CALNAME:Citizen Potawatomi Community Development Corporation
X-ORIGINAL-URL:https://cpcdc.org
X-WR-CALDESC:Events for Citizen Potawatomi Community Development Corporation
REFRESH-INTERVAL;VALUE=DURATION:PT1H
X-Robots-Tag:noindex
X-PUBLISHED-TTL:PT1H
BEGIN:VTIMEZONE
TZID:America/Chicago
BEGIN:DAYLIGHT
TZOFFSETFROM:-0500
TZOFFSETTO:-0500
TZNAME:CDT
DTSTART:20210101T000000
END:DAYLIGHT
END:VTIMEZONE
BEGIN:VEVENT
DTSTART;TZID=America/Chicago:20210721T100000
DTEND;TZID=America/Chicago:20210721T110000
DTSTAMP:20260422T055929
CREATED:20210518T142527Z
LAST-MODIFIED:20210518T142527Z
UID:2416-1626861600-1626865200@cpcdc.org
SUMMARY:Virtual Workshop: Crafting Customers Profiles
DESCRIPTION:Online \nOnline Meeting\nMap and Directions \nDate/Time: \nJuly 21st\, 2021\nStart Time: 10:00 am\nEnd Time: 11:00 am \n\n\nCustomer profiles (or buyer personas) are designed to help you understand who your ideal customers are. By doing so\, you can craft marketing messages that address their challenges and needs and attract them to your business. This interactive database helps you design customer descriptions using over 100 selection variables – from where they live to how they spend their money. Full contact details are available to download using Reference Solutions. You’ll learn how to use this tool during the workshop. \nPresenter: Bill Carlson\, Data Axle \nThis workshop is provided by Pioneer Library System and REI Women’s Business Center \nFunded in part through a cooperative agreement with the U.S. Small Business Administration. WBC and 7j programs and services are provided on a nondiscriminatory basis. Reasonable accommodations for persons with disabilities and language assistance services for clients with limited English proficiency will be provided if requested at least two weeks in advance. Contact Lori Smith\, WBC Assistant at PO Box 1335\, Durant\, OK 74702 or call 800-658-2823.
URL:https://cpcdc.org/event/virtual-workshop-crafting-customers-profiles
LOCATION:ONLINE
END:VEVENT
END:VCALENDAR