BEGIN:VCALENDAR
VERSION:2.0
PRODID:-//Citizen Potawatomi Community Development Corporation - ECPv6.14.2//NONSGML v1.0//EN
CALSCALE:GREGORIAN
METHOD:PUBLISH
X-WR-CALNAME:Citizen Potawatomi Community Development Corporation
X-ORIGINAL-URL:https://cpcdc.org
X-WR-CALDESC:Events for Citizen Potawatomi Community Development Corporation
REFRESH-INTERVAL;VALUE=DURATION:PT1H
X-Robots-Tag:noindex
X-PUBLISHED-TTL:PT1H
BEGIN:VTIMEZONE
TZID:America/New_York
BEGIN:DAYLIGHT
TZOFFSETFROM:-0400
TZOFFSETTO:-0400
TZNAME:EDT
DTSTART:20210101T000000
END:DAYLIGHT
END:VTIMEZONE
BEGIN:VEVENT
DTSTART;TZID=America/New_York:20210923T160000
DTEND;TZID=America/New_York:20210923T180000
DTSTAMP:20260420T105424
CREATED:20210811T195139Z
LAST-MODIFIED:20210811T195252Z
UID:2491-1632412800-1632420000@cpcdc.org
SUMMARY:Potawatomi Economic Gathering: Business Financials
DESCRIPTION:This training is for prospective Business Owners \nDetermining the Feasibility of a Business Venture \n 
URL:https://cpcdc.org/event/potawatomi-economic-gathering-business-financials
LOCATION:ONLINE
CATEGORIES:Online
END:VEVENT
END:VCALENDAR