BEGIN:VCALENDAR
VERSION:2.0
PRODID:-//Citizen Potawatomi Community Development Corporation - ECPv6.14.2//NONSGML v1.0//EN
CALSCALE:GREGORIAN
METHOD:PUBLISH
X-ORIGINAL-URL:https://cpcdc.org
X-WR-CALDESC:Events for Citizen Potawatomi Community Development Corporation
REFRESH-INTERVAL;VALUE=DURATION:PT1H
X-Robots-Tag:noindex
X-PUBLISHED-TTL:PT1H
BEGIN:VTIMEZONE
TZID:America/Chicago
BEGIN:DAYLIGHT
TZOFFSETFROM:-0500
TZOFFSETTO:-0500
TZNAME:CDT
DTSTART:20220101T000000
END:DAYLIGHT
END:VTIMEZONE
BEGIN:VEVENT
DTSTART;TZID=America/Chicago:20220615T123000
DTEND;TZID=America/Chicago:20220615T170000
DTSTAMP:20260420T202830
CREATED:20220607T123541Z
LAST-MODIFIED:20220607T123541Z
UID:2775-1655296200-1655312400@cpcdc.org
SUMMARY:Path to Prosperity
DESCRIPTION:“Path to Prosperity” is brought to you by the SBA\, FDIC and USDA\, and is a regional business development series.\nThis NO-COST\, virtual event will focus on the southern United States. “Path to Prosperity” will\nconsist of panel discussions comprised of economic\, lending and government contracting experts.\nThere will be facilitated conversations\, sharing best practices\, and innovative solutions.\nTopics to include:\n• Accessing Capital and Building a Relationship with Lenders\n• Business in the Healthcare Ecosystem\n• Basics of Government Contracting \nWednesday\, June 15\, 2022\n12:30 pm to 5:00 pm (EST)\nDelivered Virtually via MS Teams (Link provided at registration)\nWHO SHOULD ATTEND: Small Businesses\, Community Partners\, the Lending Community\nRegisterHere: https://www.eventbrite.com/e/path-to-prosperity-incentivizing-small-business-to-build-a-path-forward-tickets-344460208757\nSpaceisLimited.RegisterToday.\nSmall Businesses and Community Partners are encouraged to attend this series to discuss the\nunique challenges within your communities.\nPLEASE JOIN US AND BE THE VOICE OF YOUR COMMUNITY
URL:https://cpcdc.org/event/path-to-prosperity
LOCATION:ONLINE
END:VEVENT
END:VCALENDAR