BEGIN:VCALENDAR
VERSION:2.0
PRODID:-//Citizen Potawatomi Community Development Corporation - ECPv6.14.2//NONSGML v1.0//EN
CALSCALE:GREGORIAN
METHOD:PUBLISH
X-WR-CALNAME:Citizen Potawatomi Community Development Corporation
X-ORIGINAL-URL:https://cpcdc.org
X-WR-CALDESC:Events for Citizen Potawatomi Community Development Corporation
REFRESH-INTERVAL;VALUE=DURATION:PT1H
X-Robots-Tag:noindex
X-PUBLISHED-TTL:PT1H
BEGIN:VTIMEZONE
TZID:America/New_York
BEGIN:DAYLIGHT
TZOFFSETFROM:-0400
TZOFFSETTO:-0400
TZNAME:EDT
DTSTART:20220101T000000
END:DAYLIGHT
END:VTIMEZONE
BEGIN:VEVENT
DTSTART;TZID=America/New_York:20221011T190000
DTEND;TZID=America/New_York:20221011T210000
DTSTAMP:20260422T230929
CREATED:20220907T155148Z
LAST-MODIFIED:20220907T155148Z
UID:2891-1665514800-1665522000@cpcdc.org
SUMMARY:Business Basics:  Everything You Need to Start a Small Business - 4 Session Workshop - 2 hours each workshop
DESCRIPTION:Starting a business involves planning\, making key financial decisions\, and completing a series of legal activities. This course will help you understand all the steps involved in starting a business\, from testing the feasibility of your business idea and developing a business plan to ensuring your business is registered with the right agencies.​
URL:https://cpcdc.org/event/business-basics-everything-you-need-to-start-a-small-business-4-session-workshop-2-hours-each-workshop
LOCATION:ONLINE
END:VEVENT
END:VCALENDAR