BEGIN:VCALENDAR
VERSION:2.0
PRODID:-//Citizen Potawatomi Community Development Corporation - ECPv6.14.2//NONSGML v1.0//EN
CALSCALE:GREGORIAN
METHOD:PUBLISH
X-WR-CALNAME:Citizen Potawatomi Community Development Corporation
X-ORIGINAL-URL:https://cpcdc.org
X-WR-CALDESC:Events for Citizen Potawatomi Community Development Corporation
REFRESH-INTERVAL;VALUE=DURATION:PT1H
X-Robots-Tag:noindex
X-PUBLISHED-TTL:PT1H
BEGIN:VTIMEZONE
TZID:America/Chicago
BEGIN:DAYLIGHT
TZOFFSETFROM:-0500
TZOFFSETTO:-0500
TZNAME:CDT
DTSTART:20230101T000000
END:DAYLIGHT
END:VTIMEZONE
BEGIN:VEVENT
DTSTART;TZID=America/Chicago:20230123T080000
DTEND;TZID=America/Chicago:20230123T170000
DTSTAMP:20260424T093925
CREATED:20230127T171305Z
LAST-MODIFIED:20230127T171305Z
UID:3176-1674460800-1674493200@cpcdc.org
SUMMARY:Love's Entrepreneur's Cup Application Open until Feb 3\, 2023
DESCRIPTION:Love’s Entrepreneur’s Cup Application open until 2-3-2023\n\n\n\n\nThe Love’s Entrepreneur’s Cup is a statewide collegiate business plan competition that simulates the real world process of researching a market\, writing a business plan and making a presentation to potential investors.
URL:https://cpcdc.org/event/loves-entrepreneurs-cup-application-open-until-feb-3-2023
LOCATION:ONLINE
END:VEVENT
END:VCALENDAR