BEGIN:VCALENDAR
VERSION:2.0
PRODID:-//Citizen Potawatomi Community Development Corporation - ECPv6.14.2//NONSGML v1.0//EN
CALSCALE:GREGORIAN
METHOD:PUBLISH
X-WR-CALNAME:Citizen Potawatomi Community Development Corporation
X-ORIGINAL-URL:https://cpcdc.org
X-WR-CALDESC:Events for Citizen Potawatomi Community Development Corporation
REFRESH-INTERVAL;VALUE=DURATION:PT1H
X-Robots-Tag:noindex
X-PUBLISHED-TTL:PT1H
BEGIN:VTIMEZONE
TZID:America/Chicago
BEGIN:DAYLIGHT
TZOFFSETFROM:-0500
TZOFFSETTO:-0500
TZNAME:CDT
DTSTART:20230101T000000
END:DAYLIGHT
END:VTIMEZONE
BEGIN:VEVENT
DTSTART;TZID=America/Chicago:20231011T110000
DTEND;TZID=America/Chicago:20231011T130000
DTSTAMP:20260420T004613
CREATED:20231006T131255Z
LAST-MODIFIED:20231006T131255Z
UID:3651-1697022000-1697029200@cpcdc.org
SUMMARY:OKC Chapter Luncheon
DESCRIPTION:Join us for our Oklahoma City Chapter Luncheon \nWednesday\, October 11 from 11:30 AM – 1:00 PM \nWhere: First Americans Museum\, FAM Theatre \n659 First Americans Blvd Oklahoma City\, OK 73129 \n  \nCost: Members $20 \nNon-Members $25 \n  \nPlease RSVP by COB on Monday\, October 9 \n  \nQuestions? \nContact Debbie Lindsey at 405-203-9976 \n\n\n\nBrent Skarky\, Senior Vice President of Communications\, The State Chamber of Oklahoma \n\n\n\n  \n\n\n\n\n\n\n\n  \n\n\n\nAdditional Information:  \nBrent Skarky is a long-time media personality and communications professional in Oklahoma. Skarky is currently the Senior Vice President of Communications at the State Chamber of Commerce. He has worked in local TV News/Sports at KOCO\, KFOR and KOKH and hosted a state-wide daily travel and culture show for the Chickasaw Nation on Cox Cable from the current day FAM. \nSharky is a proud Bishop McGuinness High School and Syracuse University graduate. He loves giving back to his community by volunteering his time with numerous non-profits.
URL:https://cpcdc.org/event/okc-chapter-luncheon
LOCATION:First Americans Museum (FAM)\, 659 First Americans Blvd.\, okc\, OK\, 73129\, United States
ORGANIZER;CN="American Indian Chamber of Commerce Oklahoma%2C AICCO":MAILTO:kbennett@reagansmith.com
END:VEVENT
BEGIN:VEVENT
DTSTART;TZID=America/Chicago:20231011T110000
DTEND;TZID=America/Chicago:20231011T160000
DTSTAMP:20260420T004613
CREATED:20230920T135422Z
LAST-MODIFIED:20230920T135517Z
UID:3613-1697022000-1697040000@cpcdc.org
SUMMARY:SBA CYBER SUMMIT 2023: PART 2
DESCRIPTION:Topic: Managing a Business\n\nJoin us for the SBA Cyber Summit 2023\, a virtual series taking place every Wednesday in October! Proudly promoted by Oklahoma SBDC\, this event brings together leading experts and thought leaders in the field of cybersecurity. With multiple speakers and informative sessions\, the SBA Cyber Summit 2023 is your opportunity to stay up-to-date with the latest trends and insights in the world of online security. Don’t miss out on this valuable opportunity to enhance your cybersecurity knowledge and protect your business. Check out the event calendar and register for your day of choice or maximize your cyber knowledge by attending each Wednesday in October. Simply copy and paste the link below and it will take you to the SBA Eventbrite registration page where you can find detailed information about the event\, speakers and proposed agendas. EVENT REGISTRATION LINK: https://www.eventbrite.com/e/sba-cyber-summit-2023-each-wednesday-in-october-tickets-628704420847 Agenda outline for the day: Building Fortresses: Fortifying Your Small Business Against Cyberattacks (S mall Business Development Centers cyber experts including North Star for Small Business) Unmasking the Cyber Threat Landscape: Insights from the Frontlines (leading state government officials outline rising regional threats and cyber hubs partnering with small businesses) S mall Business Situation Room: Hackers Exposed- Learning from Real-Life Breach Stories Threat Intelligence Unveiled: Proactive Measures for Small Businesses \nSpeaker(s): \nCo-Sponsor(s): \n\n  \nFee: No Cost
URL:https://cpcdc.org/event/sba-cyber-summit-2023-part-2
LOCATION:ONLINE
END:VEVENT
END:VCALENDAR