BEGIN:VCALENDAR
VERSION:2.0
PRODID:-//Citizen Potawatomi Community Development Corporation - ECPv6.14.2//NONSGML v1.0//EN
CALSCALE:GREGORIAN
METHOD:PUBLISH
X-ORIGINAL-URL:https://cpcdc.org
X-WR-CALDESC:Events for Citizen Potawatomi Community Development Corporation
REFRESH-INTERVAL;VALUE=DURATION:PT1H
X-Robots-Tag:noindex
X-PUBLISHED-TTL:PT1H
BEGIN:VTIMEZONE
TZID:America/Chicago
BEGIN:DAYLIGHT
TZOFFSETFROM:-0500
TZOFFSETTO:-0500
TZNAME:CDT
DTSTART:20230101T000000
END:DAYLIGHT
END:VTIMEZONE
BEGIN:VEVENT
DTSTART;TZID=America/Chicago:20231018T110000
DTEND;TZID=America/Chicago:20231018T120000
DTSTAMP:20260419T185939
CREATED:20230825T144248Z
LAST-MODIFIED:20230825T144248Z
UID:3524-1697626800-1697630400@cpcdc.org
SUMMARY:Virtual: Make Your Website Work for You
DESCRIPTION:Online \nOnline Meeting\nMap and Directions \nDate/Time: \nOctober 18th\, 2023\n11:00 am\n12:00 pm \n\n\nIn this presentation\, learners will discover how to create a search-friendly website that drives user action and supports their goals. Whether launching a new website or sprucing up an old one\, this workshop will help. \nPresenter: Maria Elena Duron \nFunded in part through a cooperative agreement with the U.S. Small Business Administration. WBC and 7j programs and services are provided on a nondiscriminatory basis. Reasonable accommodations for persons with disabilities and language assistance services for clients with limited English proficiency will be provided if requested at least two weeks in advance. Contact Lori Smith\, WBC Assistant at PO Box 1335\, Durant\, OK 74702 or call 800-658-2823. \n\n\n\nPrice: $0.00
URL:https://cpcdc.org/event/virtual-make-your-website-work-for-you
LOCATION:ONLINE
END:VEVENT
BEGIN:VEVENT
DTSTART;TZID=America/Chicago:20231018T110000
DTEND;TZID=America/Chicago:20231018T160000
DTSTAMP:20260419T185939
CREATED:20230920T152423Z
LAST-MODIFIED:20230920T152423Z
UID:3620-1697626800-1697644800@cpcdc.org
SUMMARY:SBA CYBER SUMMIT 2023: PART 3
DESCRIPTION:  \n  \nTopic: Managing a Business\n\nJoin us for the SBA Cyber Summit 2023\, a virtual series taking place every Wednesday in October! Proudly promoted by Oklahoma SBDC\, this event brings together leading experts and thought leaders in the field of cybersecurity. With multiple speakers and informative sessions\, the SBA Cyber Summit 2023 is your opportunity to stay up-to-date with the latest trends and insights in the world of online security. Don’t miss out on this valuable opportunity to enhance your cybersecurity knowledge and protect your business. Check out the event calendar and register for your day of choice or maximize your cyber knowledge by attending each Wednesday in October. Simply copy and paste the link below and it will take you to the SBA Eventbrite registration page where you can find detailed information about the event\, speakers and proposed agendas. EVENT REGISTRATION LINK: https://www.eventbrite.com/e/sba-cyber-summit-2023-each-wednesday-in-october-tickets-628704420847 Agenda outline for the day: Cybersecurity Innovations: Unleashing the Power of Cutting-Edge Technologies hosted by Business Forward and the Small Business Digital Alliance S mall Business Situation Room: What’s Next … A Ransomware Scenario Cybersecurity Compliance: Meeting Regulatory Requirements for Small Businesses (including Cybersecurity Maturity Model Certification) [Spanish Language] Cybersecurity Bootcamp: Essential Strategies for Small Business Owners \nSpeaker(s): \nCo-Sponsor(s): \n\n\n  \nFee: No Cost
URL:https://cpcdc.org/event/sba-cyber-summit-2023-part-3
LOCATION:ONLINE
END:VEVENT
END:VCALENDAR