BEGIN:VCALENDAR
VERSION:2.0
PRODID:-//Citizen Potawatomi Community Development Corporation - ECPv6.14.2//NONSGML v1.0//EN
CALSCALE:GREGORIAN
METHOD:PUBLISH
X-ORIGINAL-URL:https://cpcdc.org
X-WR-CALDESC:Events for Citizen Potawatomi Community Development Corporation
REFRESH-INTERVAL;VALUE=DURATION:PT1H
X-Robots-Tag:noindex
X-PUBLISHED-TTL:PT1H
BEGIN:VTIMEZONE
TZID:America/Chicago
BEGIN:DAYLIGHT
TZOFFSETFROM:-0500
TZOFFSETTO:-0500
TZNAME:CDT
DTSTART:20230101T000000
END:DAYLIGHT
END:VTIMEZONE
BEGIN:VEVENT
DTSTART;TZID=America/Chicago:20231102T080000
DTEND;TZID=America/Chicago:20231102T100000
DTSTAMP:20260420T003238
CREATED:20230830T135311Z
LAST-MODIFIED:20230830T135445Z
UID:3567-1698912000-1698919200@cpcdc.org
SUMMARY:OKC Women's Business Breakfast
DESCRIPTION:REI OKC Conference Center\n318 NW 13th\nOklahoma City\, OK\n73103\nMap and Directions \nDate/Time: \nNovember 2nd\, 2023\nStart Time: 8:15 am\nEnd Time: 10:00 am \n\nDoors open for registration at 8:15 AM\nProgram begins at 8:30 AM              \nThe OKC Women’s Business Breakfast is a monthly networking and business-building event. This opportunity enables you to interact with other women in business and potential customers\, build your network\, and market your business! \nEach month this exclusive networking meeting for women
URL:https://cpcdc.org/event/okc-womens-business-breakfast-19
LOCATION:REI OKC Conference Center\, 218 East Main Street\, Oklahoma City\, OK\, 73104\, United States
END:VEVENT
BEGIN:VEVENT
DTSTART;TZID=America/Chicago:20231102T140000
DTEND;TZID=America/Chicago:20231102T153000
DTSTAMP:20260420T003238
CREATED:20231102T122421Z
LAST-MODIFIED:20231102T122506Z
UID:3660-1698933600-1698939000@cpcdc.org
SUMMARY:Cash Flow Analysis
DESCRIPTION:How you manage cash in your business and understanding the cash flow statement. \nCash flow analysis is an essential aspect of every business as it provides valuable information regarding the company’s financial health and stability. With a clear understanding of their cash flow\, business owners can make informed decisions regarding budgeting\, investment\, and financial management. \nIn our upcoming webinar\, Instructor Bruce Bishline will discuss cash flow analysis as a vital financial tool for tracking the movement of money within a small business. Participants will be able to use what they learn to gain insights into how much cash is available for expenses\, investment in new opportunities\, and debt repayment.
URL:https://cpcdc.org/event/cash-flow-analysis
LOCATION:ONLINE
END:VEVENT
END:VCALENDAR