BEGIN:VCALENDAR
VERSION:2.0
PRODID:-//Citizen Potawatomi Community Development Corporation - ECPv6.14.2//NONSGML v1.0//EN
CALSCALE:GREGORIAN
METHOD:PUBLISH
X-WR-CALNAME:Citizen Potawatomi Community Development Corporation
X-ORIGINAL-URL:https://cpcdc.org
X-WR-CALDESC:Events for Citizen Potawatomi Community Development Corporation
REFRESH-INTERVAL;VALUE=DURATION:PT1H
X-Robots-Tag:noindex
X-PUBLISHED-TTL:PT1H
BEGIN:VTIMEZONE
TZID:America/Chicago
BEGIN:DAYLIGHT
TZOFFSETFROM:-0500
TZOFFSETTO:-0500
TZNAME:CDT
DTSTART:20230101T000000
END:DAYLIGHT
END:VTIMEZONE
BEGIN:VEVENT
DTSTART;TZID=America/Chicago:20231103T110000
DTEND;TZID=America/Chicago:20231103T123000
DTSTAMP:20260419T164355
CREATED:20231102T123616Z
LAST-MODIFIED:20231102T124044Z
UID:3672-1699009200-1699014600@cpcdc.org
SUMMARY:BUDGETING AND PROJECTIONS MADE SIMPLE
DESCRIPTION:HOSTED BY OKSBDC. Learn the basics of creating a budget which outlines your projected revenue\, cost of goods sold\, and projected expenses for the coming year. This workshop will help you understand how to create and set prices for products made\, services provided\, and items purchased to sell. Develop a clear understanding of what your weekly\, monthly\, and annual expenses are\, and what you need to make to cover them. This class will empower you to control the finances of your business\, allowing you to make the best decisions possible to enhance the growth of your business. \nSpeaker(s): Sara Orellana-Paape\, 3Raptor Consulting \nCo-Sponsor(s): \nReasonable accommodations for persons with disabilities will be made if requested at least two weeks in advance. Language assistance services are available for limited English proficient individuals with appropriate advance notice. Please contact OKSBDC Training Manager Cindy Ruminer by email at cindy.ruminer@oksbdc.org or call 580-745-2877. All SBDC programs and services are extended to the public on a non-discriminatory basis. “Funded in part through a Cooperative Agreement with the U.S. Small Business Administration. All opinions\, conclusions\, and/or recommendations expressed herein are those of the author(s) and do not necessarily reflect the views of the SBA.”
URL:https://cpcdc.org/event/budgeting-and-projections-made-simple-5
LOCATION:ONLINE
END:VEVENT
BEGIN:VEVENT
DTSTART;TZID=America/Chicago:20231103T140000
DTEND;TZID=America/Chicago:20231103T153000
DTSTAMP:20260419T164355
CREATED:20231102T122622Z
LAST-MODIFIED:20231102T122622Z
UID:3663-1699020000-1699025400@cpcdc.org
SUMMARY:The Purpose of Budgeting and Saving
DESCRIPTION:By keeping tabs on your expenses and giving yourself a plan to follow\, budgeting makes it easier to meet your financial goals. Savings\, meanwhile\, are important because living paycheck to paycheck isn’t viable in the long-term. Learn the best high-tech and low-tech strategies and tools for managing your money. Learn how much to save\, which apps to use\, which debts to focus on\, how well you’re doing for your age. \nThis is the first in a four part finance series. When you register for the first webinar\, you will automatically be registered for all four and will have the option to attend any or all of the sessions.
URL:https://cpcdc.org/event/the-purpose-of-budgeting-and-saving
LOCATION:ONLINE
END:VEVENT
END:VCALENDAR