BEGIN:VCALENDAR
VERSION:2.0
PRODID:-//Citizen Potawatomi Community Development Corporation - ECPv6.14.2//NONSGML v1.0//EN
CALSCALE:GREGORIAN
METHOD:PUBLISH
X-WR-CALNAME:Citizen Potawatomi Community Development Corporation
X-ORIGINAL-URL:https://cpcdc.org
X-WR-CALDESC:Events for Citizen Potawatomi Community Development Corporation
REFRESH-INTERVAL;VALUE=DURATION:PT1H
X-Robots-Tag:noindex
X-PUBLISHED-TTL:PT1H
BEGIN:VTIMEZONE
TZID:America/Chicago
BEGIN:DAYLIGHT
TZOFFSETFROM:-0500
TZOFFSETTO:-0500
TZNAME:CDT
DTSTART:20230101T000000
END:DAYLIGHT
END:VTIMEZONE
BEGIN:VEVENT
DTSTART;TZID=America/Chicago:20231108T110000
DTEND;TZID=America/Chicago:20231108T120000
DTSTAMP:20260419T121919
CREATED:20230830T135732Z
LAST-MODIFIED:20230830T135732Z
UID:3572-1699441200-1699444800@cpcdc.org
SUMMARY:Virtual: Use YouTube to Grow Your Business
DESCRIPTION:  \n  \nLearn how to use YouTube and the power of video to promote your business or brand. \nIn this workshop we’ll cover: \n\nHow to create a YouTube channel\nAdding videos and organize your channel\nHow to promote your business with video ads\n\nPresenter: Maria Elena Duron \nFunded in part through a cooperative agreement with the U.S. Small Business Administration. WBC and 7j programs and services are provided on a nondiscriminatory basis. Reasonable accommodations for persons with disabilities and language assistance services for clients with limited English proficiency will be provided if requested at least two weeks in advance. Contact Lori Smith\, WBC Assistant at PO Box 1335\, Durant\, OK 74702 or call 800-658-2823.
URL:https://cpcdc.org/event/virtual-use-youtube-to-grow-your-business
LOCATION:ONLINE
END:VEVENT
BEGIN:VEVENT
DTSTART;TZID=America/Chicago:20231108T110000
DTEND;TZID=America/Chicago:20231108T120000
DTSTAMP:20260419T121919
CREATED:20230920T153125Z
LAST-MODIFIED:20230920T153125Z
UID:3634-1699441200-1699444800@cpcdc.org
SUMMARY:BUILDING AN EXIT STRATEGY FOR YOUR BUSINESS
DESCRIPTION:Topic: Managing a Business\n\nHave you started planning for the eventual exit of your business? Planning should begin years in advance. Having a defined strategy can help you build a more valuable company\, have stronger personal financial plans and ensure it aligns with your personal goals. This workshop is designed to give business owners a knowledge base\, vocabulary and an understanding of the process to create a thorough exit strategy. Whether you plan to transfer ownership to family members\, sell your business or close your business\, this workshop is designed to build a foundation of understand for the eventual transfer of a business owners’ biggest asset – their privately held business. \nSpeaker(s): Daniel McCoy\, University of Georgia SBDC Senior Business Consultant \nCo-Sponsor(s): \nReasonable accommodations for persons with disabilities will be made if requested at least two weeks in advance. Language assistance services are available for limited English proficient individuals with appropriate advance notice. Please contact OKSBDC Training Manager Cindy Ruminer by email at cindy.ruminer@oksbdc.org or call 580-745-2877. Funded in part through a Cooperative Agreement with the U.S. Small Business Administration. All opinions\, conclusions\, and/or recommendations expressed herein are those of the author(s) and do not necessarily reflect the views of the SBA.
URL:https://cpcdc.org/event/building-an-exit-strategy-for-your-business
LOCATION:ONLINE
END:VEVENT
END:VCALENDAR