BEGIN:VCALENDAR
VERSION:2.0
PRODID:-//Citizen Potawatomi Community Development Corporation - ECPv6.14.2//NONSGML v1.0//EN
CALSCALE:GREGORIAN
METHOD:PUBLISH
X-ORIGINAL-URL:https://cpcdc.org
X-WR-CALDESC:Events for Citizen Potawatomi Community Development Corporation
REFRESH-INTERVAL;VALUE=DURATION:PT1H
X-Robots-Tag:noindex
X-PUBLISHED-TTL:PT1H
BEGIN:VTIMEZONE
TZID:America/Chicago
BEGIN:DAYLIGHT
TZOFFSETFROM:-0500
TZOFFSETTO:-0500
TZNAME:CDT
DTSTART:20230101T000000
END:DAYLIGHT
END:VTIMEZONE
BEGIN:VEVENT
DTSTART;TZID=America/Chicago:20231115T110000
DTEND;TZID=America/Chicago:20231115T120000
DTSTAMP:20260419T092229
CREATED:20230920T153839Z
LAST-MODIFIED:20230920T153839Z
UID:3640-1700046000-1700049600@cpcdc.org
SUMMARY:MAKE YOUR SMALL BUSINESS MORE ACCESSIBLE
DESCRIPTION:Hosted by OKSBDC & Google When businesses build digital communications that allow people with disabilities to perceive\, understand\, navigate\, and interact with products and services\, it expands their market. Implementing accessibility best practices can help businesses grow\, and improve the experience for all users. Join us as Maria Elena Duron\, Google Trainer/Digital Coach helps small businesses gain a better understanding of the following: * What does accessibility mean\, online? * How to design for accessibility: web pages\, email\, and tips for physical spaces * Tips for being more inclusive Attendees will be able to get their questions answered by this amazing Google Coach and will receive a copy of the presentation with valuable handouts. \nSpeaker(s): Maria Elena Duron Grow with Google Trainer/Digital Coach \nCo-Sponsor(s): Oklahoma SBDC \nReasonable accommodations for persons with disabilities will be made if requested at least two weeks in advance. Language assistance services are available for limited English proficient individuals with appropriate advance notice. Please contact OKSBDC Training Manager Cindy Ruminer by email at cindy.ruminer@oksbdc.org or call 580-745-2877. All SBDC programs and services are extended to the public on a non-discriminatory basis. “Funded in part through a Cooperative Agreement with the U.S. Small Business Administration. All opinions\, conclusions\, and/or recommendations expressed herein are those of the author(s) and do not necessarily reflect the views of the SBA.”
URL:https://cpcdc.org/event/make-your-small-business-more-accessible-3
LOCATION:ONLINE
END:VEVENT
END:VCALENDAR