BEGIN:VCALENDAR
VERSION:2.0
PRODID:-//Citizen Potawatomi Community Development Corporation - ECPv6.14.2//NONSGML v1.0//EN
CALSCALE:GREGORIAN
METHOD:PUBLISH
X-WR-CALNAME:Citizen Potawatomi Community Development Corporation
X-ORIGINAL-URL:https://cpcdc.org
X-WR-CALDESC:Events for Citizen Potawatomi Community Development Corporation
REFRESH-INTERVAL;VALUE=DURATION:PT1H
X-Robots-Tag:noindex
X-PUBLISHED-TTL:PT1H
BEGIN:VTIMEZONE
TZID:America/Chicago
BEGIN:DAYLIGHT
TZOFFSETFROM:-0500
TZOFFSETTO:-0500
TZNAME:CDT
DTSTART:20240101T000000
END:DAYLIGHT
END:VTIMEZONE
BEGIN:VEVENT
DTSTART;TZID=America/Chicago:20240305T113000
DTEND;TZID=America/Chicago:20240305T170000
DTSTAMP:20260419T164404
CREATED:20240219T170445Z
LAST-MODIFIED:20240219T171810Z
UID:3976-1709638200-1709658000@cpcdc.org
SUMMARY:Legal Business Basics: Small Talk Business Engagement Series
DESCRIPTION:Stuart and Clover will be providing important updates to The Corporate Transparency Act and other legal business basics. Small Talk Business Engagement Series will be held on the first Tuesday of every month. Lunch is included with the registration. Lunch is provided by Special Kneads Eats and Treats. This series is in partnership with South Central Industries. Contact Cama Watts at camaw@gctech.edu for more information.
URL:https://cpcdc.org/event/legal-business-basics-small-talk-business-engagement-series
LOCATION:South Central Industries\, 204 North Louisa Ave.\, Shawnee\, OK\, 74801\, United States
ORGANIZER;CN="Gordon Cooper Technology Center":MAILTO:camaw@gctech.edu
END:VEVENT
END:VCALENDAR