BEGIN:VCALENDAR
VERSION:2.0
PRODID:-//Citizen Potawatomi Community Development Corporation - ECPv6.14.2//NONSGML v1.0//EN
CALSCALE:GREGORIAN
METHOD:PUBLISH
X-WR-CALNAME:Citizen Potawatomi Community Development Corporation
X-ORIGINAL-URL:https://cpcdc.org
X-WR-CALDESC:Events for Citizen Potawatomi Community Development Corporation
REFRESH-INTERVAL;VALUE=DURATION:PT1H
X-Robots-Tag:noindex
X-PUBLISHED-TTL:PT1H
BEGIN:VTIMEZONE
TZID:America/Chicago
BEGIN:DAYLIGHT
TZOFFSETFROM:-0500
TZOFFSETTO:-0500
TZNAME:CDT
DTSTART:20240101T000000
END:DAYLIGHT
END:VTIMEZONE
BEGIN:VEVENT
DTSTART;TZID=America/Chicago:20240409T100000
DTEND;TZID=America/Chicago:20240409T110000
DTSTAMP:20260423T155411
CREATED:20240328T183136Z
LAST-MODIFIED:20240328T183136Z
UID:4045-1712656800-1712660400@cpcdc.org
SUMMARY:Virtual: Building Business Credit
DESCRIPTION:Online Meeting\nMap and Directions \nDate/Time: \nApril 9th\, 2024\n10:00 am\n11:00 am \n\n\nMaintaining and reporting good personal credit is at the heart of building credit for your small business—and it can affect how lenders and other businesses view your business. Learn how to better leverage your business credit by using credit reporting services.  \nThis workshop is provided by Tinker Federal Credit Union. \nFunded in part through a cooperative agreement with the U.S. Small Business Administration. WBC services are provided on a nondiscriminatory basis. Reasonable accommodations for persons with disabilities and language assistance services for clients with limited English proficiency will be provided if requested at least two weeks in advance. Contact Lori Smith\, WBC Assistant at PO Box 1335\, Durant\, OK 74702 or call 800-658-2823. \n\n\n\nPrice: $0.00
URL:https://cpcdc.org/event/virtual-building-business-credit-3
LOCATION:ONLINE
END:VEVENT
END:VCALENDAR