BEGIN:VCALENDAR
VERSION:2.0
PRODID:-//Citizen Potawatomi Community Development Corporation - ECPv6.14.2//NONSGML v1.0//EN
CALSCALE:GREGORIAN
METHOD:PUBLISH
X-WR-CALNAME:Citizen Potawatomi Community Development Corporation
X-ORIGINAL-URL:https://cpcdc.org
X-WR-CALDESC:Events for Citizen Potawatomi Community Development Corporation
REFRESH-INTERVAL;VALUE=DURATION:PT1H
X-Robots-Tag:noindex
X-PUBLISHED-TTL:PT1H
BEGIN:VTIMEZONE
TZID:America/Chicago
BEGIN:DAYLIGHT
TZOFFSETFROM:-0500
TZOFFSETTO:-0500
TZNAME:CDT
DTSTART:20240101T000000
END:DAYLIGHT
END:VTIMEZONE
BEGIN:VEVENT
DTSTART;TZID=America/Chicago:20240724T110000
DTEND;TZID=America/Chicago:20240724T123000
DTSTAMP:20260419T133758
CREATED:20240524T163110Z
LAST-MODIFIED:20240524T163110Z
UID:4148-1721818800-1721824200@cpcdc.org
SUMMARY:HUMAN RELATIONS: SERIES 2 OF 3 - TOTAL REWARDS & COMPENSATION
DESCRIPTION:Wed 11:00 AM to 12:30 PM\n\n\n\n Online \nFacilitated by Oklahoma Small Business Development Center\n\nTopic: Managing Employees\n\nHuman Relations Series 2 of 3 Total Rewards – Compensation & Benefits Attendees will be taken through the combination of benefits\, compensation and rewards that employees receive from their organizations. This can include wages and bonuses as well as recognition\, workplace flexibility and career opportunities. Total rewards referring to the function and responsibilities within HR that handles compensation and benefits\, or the combined intrinsic and extrinsic rewards (or value) that an employee perceives. Attendees will examine benefits from a P&L statement\, and those who do have the necessary means\, as to what other factors they can explore to ensure their employees feel valued. Attendees will receive a copy of the presentation and will be allowed time for live Q & A with the presenter. \nSpeaker(s): Christy Close\, MsHRM\, SHRM-CP\, PHR HR Solid Foundation \nCo-Sponsor(s): \nReasonable accommodations for persons with disabilities will be made if requested at least two weeks in advance. Language assistance services are available for limited English proficient individuals with appropriate advance notice. Please contact OKSBDC Training Manager Cindy Ruminer by email at cindy.ruminer@oksbdc.org or call 580-745-2877. All SBDC programs and services are extended to the public on a non-discriminatory basis. “Funded in part through a Cooperative Agreement with the U.S. Small Business Administration. All opinions\, conclusions\, and/or recommendations expressed herein are those of the author(s) and do not necessarily reflect the views of the SBA.” \nFee: No Cost
URL:https://cpcdc.org/event/human-relations-series-2-of-3-total-rewards-compensation
LOCATION:ONLINE
ORGANIZER;CN="OKSBDC":MAILTO:cindy.ruminer@oksbdc.org
END:VEVENT
BEGIN:VEVENT
DTSTART;TZID=America/Chicago:20240724T183000
DTEND;TZID=America/Chicago:20240724T203000
DTSTAMP:20260419T133758
CREATED:20240612T135004Z
LAST-MODIFIED:20240612T135004Z
UID:4184-1721845800-1721853000@cpcdc.org
SUMMARY:Social Media Essentials for Your Business
DESCRIPTION:– How to create a content calendar to sync all your marketing efforts (Participants will receive a complimentary digital copy of a digital calendar-$27 value)\n– How to choose which platforms make sense for your business\n– The right days and times to post on each platform and how often to post\n– What type of content to post for best engagement\n– What is a social media influencer and why to use them \nPatty Ross has well over 20 years of experience in marketing and has been in the online space since 1998 where she developed an e-commerce program for a gourmet gift company into a million-dollar business. She has marketing coaching and full-service clients in financial\, legal\, education\, health and beauty\, wine\, motorsports\, e-commerce\, coaching\, landscape design\, cbd/cannabis\, restaurants\, transportation and logistics\, political activism\, non-profits and more. Golden State Marketing and her other business\, California Wine Marketing\, were founded in 2006. Patty enjoys speaking on various marketing topics to help business owners understand the importance of marketing their brand online and offline.
URL:https://cpcdc.org/event/social-media-essentials-for-your-business
LOCATION:ONLINE
END:VEVENT
END:VCALENDAR