BEGIN:VCALENDAR
VERSION:2.0
PRODID:-//Citizen Potawatomi Community Development Corporation - ECPv6.14.2//NONSGML v1.0//EN
CALSCALE:GREGORIAN
METHOD:PUBLISH
X-ORIGINAL-URL:https://cpcdc.org
X-WR-CALDESC:Events for Citizen Potawatomi Community Development Corporation
REFRESH-INTERVAL;VALUE=DURATION:PT1H
X-Robots-Tag:noindex
X-PUBLISHED-TTL:PT1H
BEGIN:VTIMEZONE
TZID:America/Los_Angeles
BEGIN:DAYLIGHT
TZOFFSETFROM:-0700
TZOFFSETTO:-0700
TZNAME:PDT
DTSTART:20240101T000000
END:DAYLIGHT
END:VTIMEZONE
BEGIN:VTIMEZONE
TZID:America/Chicago
BEGIN:DAYLIGHT
TZOFFSETFROM:-0500
TZOFFSETTO:-0500
TZNAME:CDT
DTSTART:20240101T000000
END:DAYLIGHT
END:VTIMEZONE
BEGIN:VEVENT
DTSTART;TZID=America/Los_Angeles:20240808T100000
DTEND;TZID=America/Los_Angeles:20240808T110000
DTSTAMP:20260421T033706
CREATED:20240807T155358Z
LAST-MODIFIED:20240807T155358Z
UID:4274-1723111200-1723114800@cpcdc.org
SUMMARY:AI-Powered Creativity: Content for Social Media
DESCRIPTION:About the event\nExplore the potential of AI in enhancing your social media content. Join Roni Ramos\, as we delve into how artificial intelligence can automate and refine the creation of engaging text\, captivating visuals\, and personalized posts. Learn how to use AI tools to produce dynamic content that aims to connect with your audience. This webinar will introduce innovative techniques for crafting compelling narratives and visuals designed to catch the eye and encourage engagement. Suitable for marketers and content creators at any level of expertise\, this session helps you leverage the latest AI technology to enrich your social media strategy. \nPresented by Roni Ramos. \nDo you need to up the look of your social media or create videos for your business? \nRoni Ramos has your back! She hosts entertaining and informative webinars that give you actionable steps to create great content for your own business. \nRoni is a great cheerleader for business owners who think this might be hard… \nBut it’s not!
URL:https://cpcdc.org/event/ai-powered-creativity-content-for-social-media
LOCATION:ONLINE
END:VEVENT
BEGIN:VEVENT
DTSTART;TZID=America/Chicago:20240808T100000
DTEND;TZID=America/Chicago:20240808T113000
DTSTAMP:20260421T033706
CREATED:20240807T155238Z
LAST-MODIFIED:20240807T155238Z
UID:4272-1723111200-1723116600@cpcdc.org
SUMMARY:What Is Your Brand Story?
DESCRIPTION:Having a brand story that clearly differentiates your business has a direct impact to your bottom line. Your story tells your team and your customers what makes your company different and why your customers should do business with you. \n  \n  \nbill.grosskopf@scorevolunteer.org
URL:https://cpcdc.org/event/what-is-your-brand-story
LOCATION:ONLINE
END:VEVENT
BEGIN:VEVENT
DTSTART;TZID=America/Chicago:20240808T130000
DTEND;TZID=America/Chicago:20240808T150000
DTSTAMP:20260421T033706
CREATED:20240807T155612Z
LAST-MODIFIED:20240807T155612Z
UID:4276-1723122000-1723129200@cpcdc.org
SUMMARY:Social Media Marketing for Small Businesses - Basics and Latest Trends
DESCRIPTION:  \n\n\nTitle: Social Media Marketing for Small Businesses – Basics and Latest Trends\nDate: Thursday\, August 8\, 2024\nTime: 1:00 PM (GMT-04:00) Eastern Time – New York\nDuration: 90 minutes\n\n\n\n\n  \nSocial media can be a powerful tool for small business owners to market their products and services directly to their customers. However\, social media can also be overwhelming. Which platform do you post on? How often should you post? What do you post and when? \nIn this webinar\, marketing expert Patty Ross will teach you the basics every business owner should know about social media marketing and the latest trends you should follow. \nYou will learn: \n\nHow to create a content calendar\nHow to choose which platforms make sense for your business\nThe right times to post on each platform and how often\nWhat type of content to post for the best engagement\nWhat are the best social media advertising options\n\nLive attendees will receive the slide deck and a link to this webinar recording. \nFunded in part through a Cooperative Agreement with the U.S. Small Business Administration. All opinions\, conclusions\, and/or recommendations expressed herein are those of the author(s) and do not necessarily reflect the views of the SBA. By registering for this event\, you agree to receive email communications from SCORE based on the information collected. Click HERE to view SCORE Terms and Conditions and Privacy Statements. \n\n\n 
URL:https://cpcdc.org/event/social-media-marketing-for-small-businesses-basics-and-latest-trends
LOCATION:ONLINE
END:VEVENT
END:VCALENDAR