BEGIN:VCALENDAR
VERSION:2.0
PRODID:-//Citizen Potawatomi Community Development Corporation - ECPv6.14.2//NONSGML v1.0//EN
CALSCALE:GREGORIAN
METHOD:PUBLISH
X-ORIGINAL-URL:https://cpcdc.org
X-WR-CALDESC:Events for Citizen Potawatomi Community Development Corporation
REFRESH-INTERVAL;VALUE=DURATION:PT1H
X-Robots-Tag:noindex
X-PUBLISHED-TTL:PT1H
BEGIN:VTIMEZONE
TZID:America/Chicago
BEGIN:DAYLIGHT
TZOFFSETFROM:-0500
TZOFFSETTO:-0500
TZNAME:CDT
DTSTART:20240101T000000
END:DAYLIGHT
END:VTIMEZONE
BEGIN:VEVENT
DTSTART;TZID=America/Chicago:20240815T100000
DTEND;TZID=America/Chicago:20240815T110000
DTSTAMP:20260425T202452
CREATED:20240807T164622Z
LAST-MODIFIED:20240807T164622Z
UID:4298-1723716000-1723719600@cpcdc.org
SUMMARY:First Steps in Government Contracting Coweta
DESCRIPTION:Government contracting first steps workshop. The workshop covers OkAPEX Accelerators\, formerly PTAC\, SAM registration\, OMES registration\, Industry Codes\, Capabilities Statements\, and cybersecurity. Virtual options are available. Register today for FREE!
URL:https://cpcdc.org/event/first-steps-in-government-contracting-coweta
LOCATION:ONLINE
END:VEVENT
BEGIN:VEVENT
DTSTART;TZID=America/Chicago:20240815T110000
DTEND;TZID=America/Chicago:20240815T120000
DTSTAMP:20260425T202452
CREATED:20240807T164914Z
LAST-MODIFIED:20240807T164914Z
UID:4300-1723719600-1723723200@cpcdc.org
SUMMARY:Business Smart
DESCRIPTION:If you’re looking to start a business and have questions on where to begin\, this workshop covers those first steps. Maybe you have a business idea and need to answer a few questions to give the idea more structure. Have you thought of a clever name\, registered your business\, or opened a bank account? Now what? In this workshop\, we will be covering the following topics: Market Feasibility Key sections of a business plan Factors to consider when determining legal structure Where to find funding Key resources for your business The goal of this workshop is to provide direction to new entrepreneurs and introduce you to the Oklahoma Small Business Development Center. Attendees will have a better understanding of initial steps to starting their business. \nSpeaker(s): OKSBDC Advisor Sandra Pierre OKSBDC Advisor Greg Jones \nCo-Sponsor(s): \nReasonable accommodations for persons with disabilities will be made if requested at least two weeks in advance. Language assistance services are available for limited English proficient individuals with appropriate advance notice. Please contact OKSBDC Training Manager Cindy Ruminer by email at cindy.ruminer@oksbdc.org or call 580-745-2877. All SBDC programs and services are extended to the public on a non-discriminatory basis. “Funded in part through a Cooperative Agreement with the U.S. Small Business Administration. All opinions\, conclusions\, and/or recommendations expressed herein are those of the author(s) and do not necessarily reflect the views of the SBA.” \n\n  \nFee: No Cost
URL:https://cpcdc.org/event/business-smart-13
LOCATION:ONLINE
END:VEVENT
BEGIN:VEVENT
DTSTART;TZID=America/Chicago:20240815T140000
DTEND;TZID=America/Chicago:20240815T150000
DTSTAMP:20260425T202452
CREATED:20240807T165051Z
LAST-MODIFIED:20240807T165051Z
UID:4303-1723730400-1723734000@cpcdc.org
SUMMARY:AI Basics: How Easy-to-Use Artificial Intelligence Tools Can Transform Your Small Business
DESCRIPTION:Join us for an enlightening webinar to explore the fundamentals of AI and its practical applications for Native-owned small businesses. Discover how AI can be seamlessly integrated into various aspects of your business\, improving customer service\, writing product descriptions\, creating marketing content\, and so much more.
URL:https://cpcdc.org/event/ai-basics-how-easy-to-use-artificial-intelligence-tools-can-transform-your-small-business
LOCATION:ONLINE
END:VEVENT
BEGIN:VEVENT
DTSTART;TZID=America/Chicago:20240815T190000
DTEND;TZID=America/Chicago:20240815T200000
DTSTAMP:20260425T202452
CREATED:20240807T165155Z
LAST-MODIFIED:20240807T165155Z
UID:4305-1723748400-1723752000@cpcdc.org
SUMMARY:Start a Business While Working Full Time
DESCRIPTION:Starting a business while keeping your full-time job is challenging\, but it’s also one of the best ways to discover if you have what it takes to be a true entrepreneur. If you can handle the hard work and long hours needed to juggle your business\, your job\, and your personal life\, you’ll be well prepared for the demands of running a full-time business. How do you know when it’s time to make that transition? Funded in part through a Cooperative Agreement with the U.S. Small Business Administration. All opinions\, conclusions\, and/or recommendations expressed herein are those of the author(s) and do not necessarily reflect the views of the SBA. By entering your phone number and submitting this form\, you consent to receive informational and reminder text messages from SCORE at the number provided. Consent is not a condition of any purchase. Message and data rates may apply. Message frequency varies. You can unsubscribe at any time by replying STOP or clicking the unsubscribe link (where available) in one of our messages.
URL:https://cpcdc.org/event/start-a-business-while-working-full-time
LOCATION:ONLINE
END:VEVENT
END:VCALENDAR