BEGIN:VCALENDAR
VERSION:2.0
PRODID:-//Citizen Potawatomi Community Development Corporation - ECPv6.14.2//NONSGML v1.0//EN
CALSCALE:GREGORIAN
METHOD:PUBLISH
X-WR-CALNAME:Citizen Potawatomi Community Development Corporation
X-ORIGINAL-URL:https://cpcdc.org
X-WR-CALDESC:Events for Citizen Potawatomi Community Development Corporation
REFRESH-INTERVAL;VALUE=DURATION:PT1H
X-Robots-Tag:noindex
X-PUBLISHED-TTL:PT1H
BEGIN:VTIMEZONE
TZID:America/Chicago
BEGIN:DAYLIGHT
TZOFFSETFROM:-0500
TZOFFSETTO:-0500
TZNAME:CDT
DTSTART:20240101T000000
END:DAYLIGHT
END:VTIMEZONE
BEGIN:VEVENT
DTSTART;TZID=America/Chicago:20241001T140000
DTEND;TZID=America/Chicago:20241001T163000
DTSTAMP:20260421T174858
CREATED:20240923T171638Z
LAST-MODIFIED:20240923T171638Z
UID:4390-1727791200-1727800200@cpcdc.org
SUMMARY:Prepare Financial Projections for Your Business Plan
DESCRIPTION:An important section of your written business plan is your financial projections. Bob will give you the guidance and tools to prepare financial projections that are acceptable to lenders and investors. \nBob will cover topics related to setting up and operating your business finances\, hiring professionals\, forecasting financial information\, and looking at sources of capital. In addition to use for lenders and investors\, your financial forecasts will provide the knowledge that your business can be a success.\nBob Manza is a Board Member of the SCORE Association\, an SBA funded organization supporting small businesses throughout the U.S. Bob is a SCORE certified mentor in Austin and is a volunteer leadership member with Foundation Communities.. Bob’s broad experience in finance includes: strategic and business planning; business optimization and investment; international business development; acquisition evaluation and integration; and accounting and control activities. Prior to PepsiCo\, Bob worked with PWC in Detroit\, New York and Madrid\, Spain. Bob holds a BBA from the University of Michigan and an MBA from the University of Detroit Mercy.
URL:https://cpcdc.org/event/prepare-financial-projections-for-your-business-plan-2
LOCATION:ONLINE
END:VEVENT
END:VCALENDAR