BEGIN:VCALENDAR
VERSION:2.0
PRODID:-//Citizen Potawatomi Community Development Corporation - ECPv6.14.2//NONSGML v1.0//EN
CALSCALE:GREGORIAN
METHOD:PUBLISH
X-WR-CALNAME:Citizen Potawatomi Community Development Corporation
X-ORIGINAL-URL:https://cpcdc.org
X-WR-CALDESC:Events for Citizen Potawatomi Community Development Corporation
REFRESH-INTERVAL;VALUE=DURATION:PT1H
X-Robots-Tag:noindex
X-PUBLISHED-TTL:PT1H
BEGIN:VTIMEZONE
TZID:America/Chicago
BEGIN:DAYLIGHT
TZOFFSETFROM:-0500
TZOFFSETTO:-0500
TZNAME:CDT
DTSTART:20240101T000000
END:DAYLIGHT
END:VTIMEZONE
BEGIN:VEVENT
DTSTART;TZID=America/Chicago:20241003T100000
DTEND;TZID=America/Chicago:20241003T110000
DTSTAMP:20260419T121912
CREATED:20240920T152151Z
LAST-MODIFIED:20240920T153752Z
UID:4368-1727949600-1727953200@cpcdc.org
SUMMARY:Content Kickstart Easy VIDEO with CANVA
DESCRIPTION:Join Roni Ramos in this dynamic workshop to explore Canva’s easy design solutions. Learn to enhance your marketing materials and videos with Canva’s comprehensive tools. We’ll dive into navigating its vast template library\, using the intuitive video editor\, and leveraging drag-and-drop features for compelling visuals. Discover how to integrate text\, graphics\, and multimedia to vividly convey your brand’s message. Suitable for beginners and seasoned users\, this webinar will empower you to create impactful content that stands out.  \nThis webinar is not sponsored\, endorsed\, or administered by\, or associated with\, Canva. \n  \n 
URL:https://cpcdc.org/event/content-kickstart-easy-video-with-canva
LOCATION:ONLINE
END:VEVENT
BEGIN:VEVENT
DTSTART;TZID=America/Chicago:20241003T100000
DTEND;TZID=America/Chicago:20241003T110000
DTSTAMP:20260419T121912
CREATED:20240923T171805Z
LAST-MODIFIED:20240923T171805Z
UID:4392-1727949600-1727953200@cpcdc.org
SUMMARY:Accessing Nonprofit Grants\, Sponsorships & Resources
DESCRIPTION:This overview of the online spaces available for major sources of funding and nonprofit resources is divided into three sections. The discussion addresses the following objectives: (1) the best grant databases and websites\, (2) where to locate corporate sponsors\, and (3) nonprofit resources that will help you further your mission.\nAfter participating in this LIVE workshop\, you should be able to:\n• Identify key websites and databases to guide the procurement of grant\nfunds for Religious\, Arts\, Human Services\, Social Justice\, Animal Rescue\,\nand Educational charities.\n• Determine program eligibility for grants based on funder guidelines.\n• Quickly locate potential corporate sponsors.\n• Identify the different types of grant procurement documents\, and when to\nuse each type.\n• Navigate the broad field of nonprofit resources.\nCheryl Smith is a seasoned nonprofit expert with over 25 years in the industry. As the CEO of Dewlyn Nonprofit Services\, each year\, Cheryl helps over 3\,000 nonprofit leaders build sustainability through comprehensive training\, coaching\, and grant-writing sessions. Cheryl is also the Board Chair for local Child Welfare Organization\, the author of “21 Ways to Fund a Nonprofit;” a member of the American Grant Writers’ Association; a nonprofit trainer for SCORE chapters nationwide; and a public speaker for various private sector groups
URL:https://cpcdc.org/event/accessing-nonprofit-grants-sponsorships-resources
LOCATION:ONLINE
END:VEVENT
BEGIN:VEVENT
DTSTART;TZID=America/Chicago:20241003T110000
DTEND;TZID=America/Chicago:20241003T123000
DTSTAMP:20260419T121912
CREATED:20240927T185758Z
LAST-MODIFIED:20240927T185758Z
UID:4429-1727953200-1727958600@cpcdc.org
SUMMARY:Developing an Employee Handbook
DESCRIPTION:Creating a comprehensive employee handbook is essential for setting clear expectations\, outlining company policies\, and fostering a positive workplace culture. In this virtual workshop\, we will guide you through the key components of an effective employee handbook\, including legal requirements\, company policies\, and best practices for ensuring clarity and consistency. Whether you’re starting from scratch or looking to update an existing handbook\, this session will equip you with the tools and knowledge to create a resource that supports both your employees and your organization’s goals. \nSpeaker(s): Christy Close\, MsHRM\, CHRMPA\, SHRM-CP\, PHR HR Solid Foundation \nCo-Sponsor(s): Reasonable accommodations for persons with disabilities will be made if requested at least two weeks in advance. Language assistance services are available for limited English proficient individuals with appropriate advance notice. Please contact OKSBDC Training Manager Cindy Ruminer by email at cindy.ruminer@oksbdc.org or call 580-745-2877.
URL:https://cpcdc.org/event/developing-an-employee-handbook
LOCATION:ONLINE
END:VEVENT
END:VCALENDAR