BEGIN:VCALENDAR
VERSION:2.0
PRODID:-//Citizen Potawatomi Community Development Corporation - ECPv6.14.2//NONSGML v1.0//EN
CALSCALE:GREGORIAN
METHOD:PUBLISH
X-WR-CALNAME:Citizen Potawatomi Community Development Corporation
X-ORIGINAL-URL:https://cpcdc.org
X-WR-CALDESC:Events for Citizen Potawatomi Community Development Corporation
REFRESH-INTERVAL;VALUE=DURATION:PT1H
X-Robots-Tag:noindex
X-PUBLISHED-TTL:PT1H
BEGIN:VTIMEZONE
TZID:America/Chicago
BEGIN:DAYLIGHT
TZOFFSETFROM:-0500
TZOFFSETTO:-0500
TZNAME:CDT
DTSTART:20240101T000000
END:DAYLIGHT
END:VTIMEZONE
BEGIN:VEVENT
DTSTART;TZID=America/Chicago:20241011T103000
DTEND;TZID=America/Chicago:20241011T120000
DTSTAMP:20260421T162632
CREATED:20240927T191953Z
LAST-MODIFIED:20240927T191953Z
UID:4435-1728642600-1728648000@cpcdc.org
SUMMARY:Business Start Up
DESCRIPTION:It’s back to basics! If you want to start a business but aren’t sure where to begin\, then this class is for you. In this workshop\, our SBDC professionals will address many of the questions you should ask yourself before beginning the process of starting a new business. Attendees will learn about legal business structures\, small business tax basics\, best management practices\, basic marketing strategies and market research. We will also talk about how to write a business plan and the importance of financial statements. After attending\, you will have the opportunity to connect with one of our SBDC Business Advisors to get assistance in moving through the stages of your business venture. Attendees will receive a copy of the presentation along with helpful handouts\, and have the opportunity to ask questions. \nSpeaker(s): OKSBDC Business Advisors \nCo-Sponsor(s): \nReasonable accommodations for persons with disabilities will be made if requested at least two weeks in advance. Language assistance services are available for limited English proficient individuals with appropriate advance notice. Please contact OKSBDC Training Manager Cindy Ruminer by email at cindy.ruminer@oksbdc.org or call 580-745-2877.
URL:https://cpcdc.org/event/business-start-up-26
LOCATION:ONLINE
ORGANIZER;CN="OKSBDC":MAILTO:cindy.ruminer@oksbdc.org
END:VEVENT
BEGIN:VEVENT
DTSTART;TZID=America/Chicago:20241011T130000
DTEND;TZID=America/Chicago:20241011T150000
DTSTAMP:20260421T162632
CREATED:20241007T134955Z
LAST-MODIFIED:20241007T134955Z
UID:4460-1728651600-1728658800@cpcdc.org
SUMMARY:How to Create and Leverage the Power of Business Credit
DESCRIPTION:Starting a business requires money\, which usually comes from the pockets of the owners. But using personal credit cards and personal loans to build a business can be dangerous\, as personal credit is limited\, and the more you use it\, the worse your score will be. But business credit works the opposite way: the more you use it\, the more you can get. Boyd Karren of Otro Financial will walk you through the proper sequence for building business credit so your business can qualify for funds on its own\, without your SS# or FICO score. When done right\, banks end up going after you with low-cost or near-free financing offers. \nOur Presenter\, Boyd Karren: \nBoyd is “a serial entrepreneur”. He loves the world of small business and believes deeply that small business ownership is the key to strong communities. Boyd has earned two master’s degrees in business: an MBA from Indiana University\, and a Master of Global Management degree from the Thunderbird School of Global Management. He became a business loan broker and started Otro Financial after experiencing his own difficulties in finding funding for his small business opportunities. \nWhile living in Texas\, Boyd had a “Field of Dreams moment” in which the voices in the corn told him to move to Florida\, which he did\, bringing Otro Financial with him. Boyd and his wife\, Kristi\, will celebrate 30 years of marriage this August. They are the parents of four children\, and as of last August\, they became empty nesters. He is loving this new phase of life while they wait semi-patiently for grandchildren. In his free time\, you will find him and his wife enjoying tacos\, road trips\, or just sitting in chairs at the beach\, relaxing.
URL:https://cpcdc.org/event/how-to-create-and-leverage-the-power-of-business-credit
LOCATION:ONLINE
END:VEVENT
BEGIN:VEVENT
DTSTART;TZID=America/Chicago:20241011T130000
DTEND;TZID=America/Chicago:20241011T150000
DTSTAMP:20260421T162632
CREATED:20241007T135151Z
LAST-MODIFIED:20241007T135256Z
UID:4463-1728651600-1728658800@cpcdc.org
SUMMARY:Federal Taxes: What You Need to Know as a Small Business
DESCRIPTION:In this webinar\, the IRS offers information to help small businesses understand and meet their Federal tax responsibilities. \nTopics to be addressed include: \n\nSmall business federal tax responsibilities\nIRS Resources to help your small business\nTips to help keep your small business out of tax trouble
URL:https://cpcdc.org/event/federal-taxes-what-you-need-to-know-as-a-small-business
LOCATION:ONLINE
END:VEVENT
END:VCALENDAR