BEGIN:VCALENDAR
VERSION:2.0
PRODID:-//Citizen Potawatomi Community Development Corporation - ECPv6.14.2//NONSGML v1.0//EN
CALSCALE:GREGORIAN
METHOD:PUBLISH
X-WR-CALNAME:Citizen Potawatomi Community Development Corporation
X-ORIGINAL-URL:https://cpcdc.org
X-WR-CALDESC:Events for Citizen Potawatomi Community Development Corporation
REFRESH-INTERVAL;VALUE=DURATION:PT1H
X-Robots-Tag:noindex
X-PUBLISHED-TTL:PT1H
BEGIN:VTIMEZONE
TZID:America/Chicago
BEGIN:DAYLIGHT
TZOFFSETFROM:-0500
TZOFFSETTO:-0500
TZNAME:CDT
DTSTART:20240101T000000
END:DAYLIGHT
END:VTIMEZONE
BEGIN:VEVENT
DTSTART;TZID=America/Chicago:20241107T113000
DTEND;TZID=America/Chicago:20241107T120000
DTSTAMP:20260419T133756
CREATED:20241031T130543Z
LAST-MODIFIED:20241031T130543Z
UID:4493-1730979000-1730980800@cpcdc.org
SUMMARY:Revive and Thrive: A Workshop on Small Business Credit Repair
DESCRIPTION:Please Join us for a comprehensive virtual training on the Credit Repair Process for Small Business\, in partnership with First United Bank. This session will guide you through the essential steps to improve and manage your business credit\, helping you secure better financing options and strengthen your financial foundation. Whether you’re just starting or looking to rebuild\, this training will provide actionable insights to support your business growth. Those attending will walk away with a better understanding of the following: 1) How to detect if you need to repair your credit 2) The processes necessary to achieve credit repair 3) How to protect yourself against credit repair scams \nSpeaker(s): Jennifer Henagar – Director of Financial Well-Being\, First United Bank \nCo-Sponsor(s): \nReasonable accommodations for persons with disabilities will be made if requested at least two weeks in advance. Language assistance services are available for limited English proficient individuals with appropriate advance notice. Please contact OKSBDC Training Manager Cindy Ruminer by email at cindy.ruminer@oksbdc.org or call 580-745-2877.
URL:https://cpcdc.org/event/revive-and-thrive-a-workshop-on-small-business-credit-repair
LOCATION:ONLINE
END:VEVENT
END:VCALENDAR